BEGIN:VCALENDAR
VERSION:2.0
PRODID:-//TIT József Attila Szabadegyetem - ECPv6.15.20//NONSGML v1.0//EN
CALSCALE:GREGORIAN
METHOD:PUBLISH
X-ORIGINAL-URL:https://jasze.hu
X-WR-CALDESC:Események TIT József Attila Szabadegyetem
REFRESH-INTERVAL;VALUE=DURATION:PT1H
X-Robots-Tag:noindex
X-PUBLISHED-TTL:PT1H
BEGIN:VTIMEZONE
TZID:UTC
BEGIN:STANDARD
TZOFFSETFROM:+0000
TZOFFSETTO:+0000
TZNAME:UTC
DTSTART:20250101T000000
END:STANDARD
END:VTIMEZONE
BEGIN:VEVENT
DTSTART;TZID=UTC:20260422T173000
DTEND;TZID=UTC:20260422T190000
DTSTAMP:20260421T223659
CREATED:20260323T130803Z
LAST-MODIFIED:20260323T130803Z
UID:10001293-1776879000-1776884400@jasze.hu
SUMMARY:Halhatatlan kultúra
DESCRIPTION:Málta – A kék rigó szigete \nElőadó: Szántó Mária idegenvezető
URL:https://jasze.hu/event/halhatatlan-kultura-11/
CATEGORIES:Hallhatatlan kultúra
END:VEVENT
BEGIN:VEVENT
DTSTART;TZID=UTC:20260423T170000
DTEND;TZID=UTC:20260423T183000
DTSTAMP:20260421T223659
CREATED:20260323T121431Z
LAST-MODIFIED:20260323T121431Z
UID:10001272-1776963600-1776969000@jasze.hu
SUMMARY:Stílusteremtő géniuszok
DESCRIPTION:Emil Nolde \nElőadó: Ludmann Mihály művészettörténész
URL:https://jasze.hu/event/stilusteremto-geniuszok-53/
CATEGORIES:Stílusteremtő géniuszok
END:VEVENT
BEGIN:VEVENT
DTSTART;TZID=UTC:20260424T143000
DTEND;TZID=UTC:20260424T160000
DTSTAMP:20260421T223659
CREATED:20260323T125240Z
LAST-MODIFIED:20260323T125240Z
UID:10001287-1777041000-1777046400@jasze.hu
SUMMARY:Hallgassuk és nézzük együtt!
DESCRIPTION:Ludwig van Beethoven\, Frédéric Chopin\, Antonín Dvořák kompozíciói alpesi képekkel illusztrálva \nElőadó: Zelinka Tamás zenetanár\, szerkesztő
URL:https://jasze.hu/event/hallgassuk-es-nezzuk-egyutt-44/
CATEGORIES:Hallgassuk és nézzük együtt!
END:VEVENT
BEGIN:VEVENT
DTSTART;TZID=UTC:20260427T160000
DTEND;TZID=UTC:20260427T171500
DTSTAMP:20260421T223659
CREATED:20260323T121812Z
LAST-MODIFIED:20260323T121812Z
UID:10001274-1777305600-1777310100@jasze.hu
SUMMARY:MŰVÉSZETTÖRTÉNET NYUGDÍJASOKNAK A csoport
DESCRIPTION:Az amerikai művészet születése\, irányzatai \nElőadó: Ludmann Mihály művészettörténész
URL:https://jasze.hu/event/muveszettortenet-nyugdijasoknak-a-csoport-5/
CATEGORIES:Művészettörténet nyugdíjasoknak
END:VEVENT
BEGIN:VEVENT
DTSTART;TZID=UTC:20260427T173000
DTEND;TZID=UTC:20260427T190000
DTSTAMP:20260421T223659
CREATED:20260323T120822Z
LAST-MODIFIED:20260323T120822Z
UID:10001267-1777311000-1777316400@jasze.hu
SUMMARY:Egyetemes művészettörténet V. évfolyam
DESCRIPTION:Az építészet útja a II. világháború után \nElőadó: Ludmann Mihály művészettörténész
URL:https://jasze.hu/event/egyetemes-muveszettortenet-v-evfolyam-3/
CATEGORIES:Egyetemes művészettörténet
END:VEVENT
BEGIN:VEVENT
DTSTART;TZID=UTC:20260428T173000
DTEND;TZID=UTC:20260428T190000
DTSTAMP:20260421T223659
CREATED:20260323T122803Z
LAST-MODIFIED:20260323T122803Z
UID:10001280-1777397400-1777402800@jasze.hu
SUMMARY:Változatok a magyar nyelvre
DESCRIPTION:Középmagyar kor – élőbeszéd közeli nyelvváltozatok\, bírósági nyelvezet (boszorkányperek jegyzőkönyvei\, tanúvallomások) \nElőadó: Sárosi Zsófia nyelvtörténész
URL:https://jasze.hu/event/valtozatok-a-magyar-nyelvre-6/
CATEGORIES:Nyelvtörténet
END:VEVENT
BEGIN:VEVENT
DTSTART;TZID=UTC:20260428T173000
DTEND;TZID=UTC:20260428T190000
DTSTAMP:20260421T223659
CREATED:20260323T130435Z
LAST-MODIFIED:20260323T130435Z
UID:10001292-1777397400-1777402800@jasze.hu
SUMMARY:Napjaink tudományos életéből
DESCRIPTION:Politikai viselkedések \nElőadó: Dr. Szabó Andrea szociológus\, politika­tudós
URL:https://jasze.hu/event/napjaink-tudomanyos-eletebol-12/
CATEGORIES:Történelem
END:VEVENT
BEGIN:VEVENT
DTSTART;TZID=UTC:20260429T150000
DTEND;TZID=UTC:20260429T163000
DTSTAMP:20260421T223659
CREATED:20260323T131226Z
LAST-MODIFIED:20260323T131226Z
UID:10001295-1777474800-1777480200@jasze.hu
SUMMARY:Országról országra a nagyvilágban
DESCRIPTION:Japán IV. \nElőadó: Kapitánffy Krisztina
URL:https://jasze.hu/event/orszagrol-orszagra-a-nagyvilagban-10/
CATEGORIES:Országról országra
END:VEVENT
BEGIN:VEVENT
DTSTART;TZID=UTC:20260429T173000
DTEND;TZID=UTC:20260429T190000
DTSTAMP:20260421T223659
CREATED:20260323T122316Z
LAST-MODIFIED:20260323T122316Z
UID:10001278-1777483800-1777489200@jasze.hu
SUMMARY:Kor-Képek
DESCRIPTION:Vallomás ecsettel \nElőadó: Réti Mária művészettörténész \n 
URL:https://jasze.hu/event/kor-kepek-54/
CATEGORIES:Kor-Képek
END:VEVENT
BEGIN:VEVENT
DTSTART;TZID=UTC:20260429T173000
DTEND;TZID=UTC:20260429T193000
DTSTAMP:20260421T223659
CREATED:20260323T125611Z
LAST-MODIFIED:20260323T125611Z
UID:10001290-1777483800-1777491000@jasze.hu
SUMMARY:Barokk zene kimagasló alkotásai
DESCRIPTION:Bach egyházi művei \nElőadó: Kocsis Gábor zenetörténész
URL:https://jasze.hu/event/barokk-zene-kimagaslo-alkotasai-6/
CATEGORIES:Zenetörténet
END:VEVENT
BEGIN:VEVENT
DTSTART;TZID=UTC:20260430T170000
DTEND;TZID=UTC:20260430T183000
DTSTAMP:20260421T223659
CREATED:20260323T121203Z
LAST-MODIFIED:20260323T121203Z
UID:10001270-1777568400-1777573800@jasze.hu
SUMMARY:Genius loci
DESCRIPTION:Heinrich von Ferstel \nElőadó: Ludmann Mihály művészettörténész
URL:https://jasze.hu/event/genius-loci-55/
CATEGORIES:Genius Loci
END:VEVENT
BEGIN:VEVENT
DTSTART;TZID=UTC:20260430T173000
DTEND;TZID=UTC:20260430T190000
DTSTAMP:20260421T223659
CREATED:20260323T123531Z
LAST-MODIFIED:20260323T123531Z
UID:10001283-1777570200-1777575600@jasze.hu
SUMMARY:Érzelem és értelem a filozófiában
DESCRIPTION:Nussbaum\, De Sousa\, Goldie – főbb trendek az „analitikus” érzelemfilozófiában\nElőadó: Szalai Judit
URL:https://jasze.hu/event/erzelem-es-ertelem-a-filozofiaban-6/
CATEGORIES:Filozófia
END:VEVENT
BEGIN:VEVENT
DTSTART;TZID=UTC:20260504T160000
DTEND;TZID=UTC:20260504T171500
DTSTAMP:20260421T223659
CREATED:20260421T162350Z
LAST-MODIFIED:20260421T162350Z
UID:10001308-1777910400-1777914900@jasze.hu
SUMMARY:MŰVÉSZETTÖRTÉNET NYUGDÍJASOKNAK B csoport
DESCRIPTION:Magyar művészet a két világháború között \nElőadó: Ludmann Mihály\,\nművészettörténész
URL:https://jasze.hu/event/muveszettortenet-nyugdijasoknak-b-csoport-4/
CATEGORIES:Művészettörténet nyugdíjasoknak
END:VEVENT
BEGIN:VEVENT
DTSTART;TZID=UTC:20260504T173000
DTEND;TZID=UTC:20260504T190000
DTSTAMP:20260421T223659
CREATED:20260421T160537Z
LAST-MODIFIED:20260421T160537Z
UID:10001298-1777915800-1777921200@jasze.hu
SUMMARY:Egyetemes művészettörténet V.
DESCRIPTION:A magyar építészet és képzőművészet az 1950-es években \nElőadó: Ludmann Mihály\,\nművészettörténész
URL:https://jasze.hu/event/egyetemes-muveszettortenet-v-6/
CATEGORIES:Egyetemes művészettörténet
END:VEVENT
BEGIN:VEVENT
DTSTART;TZID=UTC:20260505T173000
DTEND;TZID=UTC:20260505T190000
DTSTAMP:20260421T223659
CREATED:20260421T163054Z
LAST-MODIFIED:20260421T163054Z
UID:10001314-1778002200-1778007600@jasze.hu
SUMMARY:Mohács 500
DESCRIPTION:Mohács rövidtávú következményei: Mohácstól Szigetvárig\, 1526–1566. \nVendég: dr. Varga Szabolcs történész
URL:https://jasze.hu/event/mohacs-500-5/
CATEGORIES:Történelem
END:VEVENT
BEGIN:VEVENT
DTSTART;TZID=UTC:20260505T173000
DTEND;TZID=UTC:20260505T190000
DTSTAMP:20260421T223659
CREATED:20260421T164018Z
LAST-MODIFIED:20260421T164018Z
UID:10001322-1778002200-1778007600@jasze.hu
SUMMARY:A kínai klasszikus festészet esztétikája\, története és remekművei
DESCRIPTION:A Szung-dinasztia festészete \nElőadó: dr. Havadi-Nagy István\nny. egyetemi docens
URL:https://jasze.hu/event/a-kinai-klasszikus-festeszet-esztetikaja-tortenete-es-remekmuvei-3/
CATEGORIES:Kínai művészet
END:VEVENT
BEGIN:VEVENT
DTSTART;TZID=UTC:20260507T170000
DTEND;TZID=UTC:20260507T183000
DTSTAMP:20260421T223659
CREATED:20260421T161224Z
LAST-MODIFIED:20260421T161224Z
UID:10001304-1778173200-1778178600@jasze.hu
SUMMARY:Stílusteremtő géniuszok
DESCRIPTION:Medgyessy Ferenc \nElőadó: Ludmann Mihály\,\nművészettörténész
URL:https://jasze.hu/event/stilusteremto-geniuszok-54/
CATEGORIES:Stílusteremtő géniuszok
END:VEVENT
BEGIN:VEVENT
DTSTART;TZID=UTC:20260508T143000
DTEND;TZID=UTC:20260508T160000
DTSTAMP:20260421T223659
CREATED:20260421T163304Z
LAST-MODIFIED:20260421T163304Z
UID:10001316-1778250600-1778256000@jasze.hu
SUMMARY:Hallgassuk és nézzük együtt!
DESCRIPTION:Manuel de Falla: Éj a spanyol kertekben // Joaquín Rodrigo: Concerto de Aranjues \nElőadó: Zelinka Tamás\nzenetanár\, szerkesztő
URL:https://jasze.hu/event/hallgassuk-es-nezzuk-egyutt-45/
CATEGORIES:Hallgassuk és nézzük együtt!
END:VEVENT
BEGIN:VEVENT
DTSTART;TZID=UTC:20260511T160000
DTEND;TZID=UTC:20260511T171500
DTSTAMP:20260421T223659
CREATED:20260421T162228Z
LAST-MODIFIED:20260421T162228Z
UID:10001307-1778515200-1778519700@jasze.hu
SUMMARY:MŰVÉSZETTÖRTÉNET NYUGDÍJASOKNAK A csoport
DESCRIPTION:A magyar építészet és képzőművészet a II. világháború után \nElőadó: Ludmann Mihály\,\nművészettörténész
URL:https://jasze.hu/event/muveszettortenet-nyugdijasoknak-a-csoport-6/
CATEGORIES:Művészettörténet nyugdíjasoknak
END:VEVENT
BEGIN:VEVENT
DTSTART;TZID=UTC:20260511T173000
DTEND;TZID=UTC:20260511T190000
DTSTAMP:20260421T223659
CREATED:20260421T160640Z
LAST-MODIFIED:20260421T160640Z
UID:10001299-1778520600-1778526000@jasze.hu
SUMMARY:Egyetemes művészettörténet V.
DESCRIPTION:Új irányzatok a XX. század utolsó harmadában \nElőadó: Ludmann Mihály\,\nművészettörténész
URL:https://jasze.hu/event/egyetemes-muveszettortenet-v-7/
CATEGORIES:Egyetemes művészettörténet
END:VEVENT
BEGIN:VEVENT
DTSTART;TZID=UTC:20260513T150000
DTEND;TZID=UTC:20260513T163000
DTSTAMP:20260421T223659
CREATED:20260421T163922Z
LAST-MODIFIED:20260421T163922Z
UID:10001321-1778684400-1778689800@jasze.hu
SUMMARY:Országról országra a nagyvilágban
DESCRIPTION:Vietnám \nElőadó:\nKapitánffy Krisztina
URL:https://jasze.hu/event/orszagrol-orszagra-a-nagyvilagban-11/
CATEGORIES:Országról országra
END:VEVENT
BEGIN:VEVENT
DTSTART;TZID=UTC:20260513T173000
DTEND;TZID=UTC:20260513T190000
DTSTAMP:20260421T223659
CREATED:20260421T162736Z
LAST-MODIFIED:20260421T162736Z
UID:10001311-1778693400-1778698800@jasze.hu
SUMMARY:Kor-Képek
DESCRIPTION:William Blake látomásai \nElőadó: Réti Mária\nművészettörténész
URL:https://jasze.hu/event/kor-kepek-55/
CATEGORIES:Kor-Képek
END:VEVENT
BEGIN:VEVENT
DTSTART;TZID=UTC:20260513T173000
DTEND;TZID=UTC:20260513T193000
DTSTAMP:20260421T223659
CREATED:20260421T163611Z
LAST-MODIFIED:20260421T163611Z
UID:10001319-1778693400-1778700600@jasze.hu
SUMMARY:Barokk zene kimagasló alkotásai
DESCRIPTION:Bach univerzális művei \nElőadó: Kocsis Gábor\nzenetörténész
URL:https://jasze.hu/event/barokk-zene-kimagaslo-alkotasai-7/
CATEGORIES:Barokk zene
END:VEVENT
BEGIN:VEVENT
DTSTART;TZID=UTC:20260514T170000
DTEND;TZID=UTC:20260514T183000
DTSTAMP:20260421T223659
CREATED:20260421T161023Z
LAST-MODIFIED:20260421T161023Z
UID:10001302-1778778000-1778783400@jasze.hu
SUMMARY:Genius loci
DESCRIPTION:Hans Makart \nElőadó: Ludmann Mihály\,\nművészettörténész
URL:https://jasze.hu/event/genius-loci-56/
CATEGORIES:Genius Loci
END:VEVENT
BEGIN:VEVENT
DTSTART;TZID=UTC:20260514T173000
DTEND;TZID=UTC:20260514T190000
DTSTAMP:20260421T223659
CREATED:20260421T162938Z
LAST-MODIFIED:20260421T162938Z
UID:10001313-1778779800-1778785200@jasze.hu
SUMMARY:Érzelem és értelem a filozófiában
DESCRIPTION:Heideggertől Hanig – érzelmek szerepe a „kontinentális” filozófiában\nElőadó: Boros Gábor
URL:https://jasze.hu/event/erzelem-es-ertelem-a-filozofiaban-7/
CATEGORIES:Filozófia
END:VEVENT
BEGIN:VEVENT
DTSTART;TZID=UTC:20260515T143000
DTEND;TZID=UTC:20260515T160000
DTSTAMP:20260421T223659
CREATED:20260421T163412Z
LAST-MODIFIED:20260421T163412Z
UID:10001317-1778855400-1778860800@jasze.hu
SUMMARY:Hallgassuk és nézzük együtt!
DESCRIPTION:Mozart: A nagy mise – Uwe Scholz balettje (Koncert balett-film\, 2005) \nElőadó: Zelinka Tamás\nzenetanár\, szerkesztő
URL:https://jasze.hu/event/hallgassuk-es-nezzuk-egyutt-46/
CATEGORIES:Hallgassuk és nézzük együtt!
END:VEVENT
BEGIN:VEVENT
DTSTART;TZID=UTC:20260518T160000
DTEND;TZID=UTC:20260518T171500
DTSTAMP:20260421T223659
CREATED:20260421T162456Z
LAST-MODIFIED:20260421T162456Z
UID:10001309-1779120000-1779124500@jasze.hu
SUMMARY:MŰVÉSZETTÖRTÉNET NYUGDÍJASOKNAK B csoport
DESCRIPTION:Az amerikai művészet születése\, irányzatai \nElőadó: Ludmann Mihály\,\nművészettörténész
URL:https://jasze.hu/event/muveszettortenet-nyugdijasoknak-b-csoport-5/
CATEGORIES:Művészettörténet nyugdíjasoknak
END:VEVENT
BEGIN:VEVENT
DTSTART;TZID=UTC:20260518T173000
DTEND;TZID=UTC:20260518T190000
DTSTAMP:20260421T223659
CREATED:20260421T160830Z
LAST-MODIFIED:20260421T160830Z
UID:10001300-1779125400-1779130800@jasze.hu
SUMMARY:Egyetemes művészettörténet V.
DESCRIPTION:Az organikus építészet mesterei \nElőadó: Ludmann Mihály\,\nművészettörténész
URL:https://jasze.hu/event/egyetemes-muveszettortenet-v-8/
CATEGORIES:Egyetemes művészettörténet
END:VEVENT
BEGIN:VEVENT
DTSTART;TZID=UTC:20260519T173000
DTEND;TZID=UTC:20260519T190000
DTSTAMP:20260421T223659
CREATED:20260421T163157Z
LAST-MODIFIED:20260421T163157Z
UID:10001315-1779211800-1779217200@jasze.hu
SUMMARY:Mohács 500
DESCRIPTION:Mohács hosszútávú következményei: 1526–2026. \nVendég: Dr. Romsics Ignác történész
URL:https://jasze.hu/event/mohacs-500-6/
CATEGORIES:Történelem
END:VEVENT
BEGIN:VEVENT
DTSTART;TZID=UTC:20260519T173000
DTEND;TZID=UTC:20260519T190000
DTSTAMP:20260421T223659
CREATED:20260421T164116Z
LAST-MODIFIED:20260421T164116Z
UID:10001323-1779211800-1779217200@jasze.hu
SUMMARY:A kínai klasszikus festészet esztétikája\, története és remekművei
DESCRIPTION:A Déli-Szung (1127–1279) iskola stílusjegyei\, mesterei\, remekművei \nElőadó: dr. Havadi-Nagy István\nny. egyetemi docens
URL:https://jasze.hu/event/a-kinai-klasszikus-festeszet-esztetikaja-tortenete-es-remekmuvei-4/
CATEGORIES:Kínai művészet
END:VEVENT
END:VCALENDAR