BEGIN:VCALENDAR
VERSION:2.0
PRODID:-//TIT József Attila Szabadegyetem - ECPv6.15.20//NONSGML v1.0//EN
CALSCALE:GREGORIAN
METHOD:PUBLISH
X-WR-CALNAME:TIT József Attila Szabadegyetem
X-ORIGINAL-URL:https://jasze.hu
X-WR-CALDESC:Események TIT József Attila Szabadegyetem
REFRESH-INTERVAL;VALUE=DURATION:PT1H
X-Robots-Tag:noindex
X-PUBLISHED-TTL:PT1H
BEGIN:VTIMEZONE
TZID:UTC
BEGIN:STANDARD
TZOFFSETFROM:+0000
TZOFFSETTO:+0000
TZNAME:UTC
DTSTART:20250101T000000
END:STANDARD
END:VTIMEZONE
BEGIN:VEVENT
DTSTART;TZID=UTC:20260420T160000
DTEND;TZID=UTC:20260420T171500
DTSTAMP:20260420T062535
CREATED:20260323T121933Z
LAST-MODIFIED:20260323T121933Z
UID:10001275-1776700800-1776705300@jasze.hu
SUMMARY:MŰVÉSZETTÖRTÉNET NYUGDÍJASOKNAK B csoport
DESCRIPTION:A szürrealizmus képzőművészete \nElőadó: Ludmann Mihály művészettörténész
URL:https://jasze.hu/event/muveszettortenet-nyugdijasoknak-b-csoport-3/
CATEGORIES:Művészettörténet nyugdíjasoknak
END:VEVENT
BEGIN:VEVENT
DTSTART;TZID=UTC:20260420T173000
DTEND;TZID=UTC:20260420T190000
DTSTAMP:20260420T062535
CREATED:20260323T120705Z
LAST-MODIFIED:20260323T120705Z
UID:10001266-1776706200-1776711600@jasze.hu
SUMMARY:Egyetemes művészettörténet V. évfolyam
DESCRIPTION:A pop art\, op art\, a kinetikus művészet \nElőadó: Ludmann Mihály művészettörténész
URL:https://jasze.hu/event/egyetemes-muveszettortenet-v-evfolyam-2/
CATEGORIES:Egyetemes művészettörténet
END:VEVENT
END:VCALENDAR