BEGIN:VCALENDAR
VERSION:2.0
PRODID:-//TIT József Attila Szabadegyetem - ECPv6.15.20//NONSGML v1.0//EN
CALSCALE:GREGORIAN
METHOD:PUBLISH
X-WR-CALNAME:TIT József Attila Szabadegyetem
X-ORIGINAL-URL:https://jasze.hu
X-WR-CALDESC:Események TIT József Attila Szabadegyetem
REFRESH-INTERVAL;VALUE=DURATION:PT1H
X-Robots-Tag:noindex
X-PUBLISHED-TTL:PT1H
BEGIN:VTIMEZONE
TZID:UTC
BEGIN:STANDARD
TZOFFSETFROM:+0000
TZOFFSETTO:+0000
TZNAME:UTC
DTSTART:20220101T000000
END:STANDARD
END:VTIMEZONE
BEGIN:VEVENT
DTSTART;TZID=UTC:20230301T173000
DTEND;TZID=UTC:20230301T190000
DTSTAMP:20260421T101705
CREATED:20230227T124608Z
LAST-MODIFIED:20230227T124608Z
UID:10000716-1677691800-1677697200@jasze.hu
SUMMARY:IRODALMI ALKOTÁSOK PÁRBESZÉDE FLÓRA és FAUNA
DESCRIPTION:Kutyák \nPetőfi Sándor: Kutyák dala; Babits Mihály:\nÁdáz kutyám; Örkény István: Jellempróba; Bodor Béla: Petőfi Sándor palimpszeszt; Déry Tibor: Niki; Radnóti: Nem tudhatom; Csukás István: Kondor Béla és a halál; Weöres Sándor: Kutyatár; Tóth Krisztina: Pitbull; Nagy Lajos: Képtelen természetrajz – A kutya \nConan Doyle: A sátán kutyája \nElőadó: Tamás Ferenc irodalomtörténész\, költő\, magyartanár
URL:https://jasze.hu/event/irodalmi-alkotasok-parbeszede-flora-es-fauna-8/
CATEGORIES:Irodalmi alkotások párbeszéde
END:VEVENT
BEGIN:VEVENT
DTSTART;TZID=UTC:20230302T170000
DTEND;TZID=UTC:20230302T183000
DTSTAMP:20260421T101705
CREATED:20230228T182524Z
LAST-MODIFIED:20230228T182524Z
UID:10000733-1677776400-1677781800@jasze.hu
SUMMARY:GENIUS LOCI
DESCRIPTION:Barcelona I. \nElőadó: Ludmann Mihály művészettörténész
URL:https://jasze.hu/event/genius-loci-7/
CATEGORIES:Genius Loci
END:VEVENT
BEGIN:VEVENT
DTSTART;TZID=UTC:20230306T173000
DTEND;TZID=UTC:20230306T190000
DTSTAMP:20260421T101705
CREATED:20230228T180704Z
LAST-MODIFIED:20230228T180704Z
UID:10000718-1678123800-1678129200@jasze.hu
SUMMARY:EGYETEMES MŰVÉSZETTÖRTÉNET
DESCRIPTION:Assisi és Padova építészete\, festészete a XIII‑XIV. században \nElőadó: Ludmann Mihály művészettörténész
URL:https://jasze.hu/event/egyetemes-muveszettortenet/
CATEGORIES:Egyetemes művészettörténet
END:VEVENT
BEGIN:VEVENT
DTSTART;TZID=UTC:20230308T173000
DTEND;TZID=UTC:20230308T190000
DTSTAMP:20260421T101705
CREATED:20230301T163413Z
LAST-MODIFIED:20230301T163413Z
UID:10000578-1678296600-1678302000@jasze.hu
SUMMARY:KOR-KÉPEK
DESCRIPTION:„Nem a ruha teszi…”(?!) Nőnapi ünnepi előadásunk alkalmával a középkor gáláns urai és elegáns asszonyai jelennek meg a csodálatos gótikus dómok szobraiban \nElőadó: Réti Mária művészettörténész
URL:https://jasze.hu/event/kor-kepek-8/
CATEGORIES:Kor-Képek
END:VEVENT
BEGIN:VEVENT
DTSTART;TZID=UTC:20230308T173000
DTEND;TZID=UTC:20230308T193000
DTSTAMP:20260421T101705
CREATED:20230301T171111Z
LAST-MODIFIED:20230301T171111Z
UID:10000590-1678296600-1678303800@jasze.hu
SUMMARY:FRANCIA ZENETÖRTÉNET
DESCRIPTION:Varése\, Hatok I. (Milhaud) \nElőadó: Kocsis Gábor zenetörténész
URL:https://jasze.hu/event/francia-zenetortenet/
CATEGORIES:Francia zenetörténet
END:VEVENT
BEGIN:VEVENT
DTSTART;TZID=UTC:20230309T170000
DTEND;TZID=UTC:20230309T183000
DTSTAMP:20260421T101705
CREATED:20230228T182339Z
LAST-MODIFIED:20230228T182339Z
UID:10000731-1678381200-1678386600@jasze.hu
SUMMARY:STÍLUSTEREMTŐ GÉNIUSZOK
DESCRIPTION:Francesco Guardi \nElőadó: Ludmann Mihály művészettörténész
URL:https://jasze.hu/event/stilusteremto-geniuszok-10/
CATEGORIES:Stílusteremtő géniuszok
END:VEVENT
BEGIN:VEVENT
DTSTART;TZID=UTC:20230310T143000
DTEND;TZID=UTC:20230310T160000
DTSTAMP:20260421T101705
CREATED:20230301T164117Z
LAST-MODIFIED:20230301T164117Z
UID:10000587-1678458600-1678464000@jasze.hu
SUMMARY:HALLGASSUK ÉS NÉZZÜK EGYÜTT!
DESCRIPTION:Felix Mendelssohn-Bartholdy \nElőadó: Zelinka Tamás zenetanár\, szerkesztő
URL:https://jasze.hu/event/hallgassuk-es-nezzuk-egyutt-5/
CATEGORIES:Hallgassuk és nézzük együtt!
END:VEVENT
BEGIN:VEVENT
DTSTART;TZID=UTC:20230313T160000
DTEND;TZID=UTC:20230313T171500
DTSTAMP:20260421T101705
CREATED:20230301T163830Z
LAST-MODIFIED:20230301T163830Z
UID:10000583-1678723200-1678727700@jasze.hu
SUMMARY:MŰVÉSZETTÖRTÉNET NYUGDÍJASOKNAK
DESCRIPTION:A későgótika alkotása \nElőadó: Ludmann Mihály művészettörténész
URL:https://jasze.hu/event/muveszettortenet-nyugdijasoknak-5/
CATEGORIES:Művészettörténet nyugdíjasoknak
END:VEVENT
BEGIN:VEVENT
DTSTART;TZID=UTC:20230313T173000
DTEND;TZID=UTC:20230313T190000
DTSTAMP:20260421T101705
CREATED:20230228T180852Z
LAST-MODIFIED:20230228T180852Z
UID:10000720-1678728600-1678734000@jasze.hu
SUMMARY:EGYETEMES MŰVÉSZETTÖRTÉNET
DESCRIPTION:Egy új képi nyelv születése: Masaccio festészete és hatása \nElőadó: Ludmann Mihály művészettörténész
URL:https://jasze.hu/event/egyetemes-muveszettortenet-2/
CATEGORIES:Egyetemes művészettörténet
END:VEVENT
BEGIN:VEVENT
DTSTART;TZID=UTC:20230314T173000
DTEND;TZID=UTC:20230314T190000
DTSTAMP:20260421T101705
CREATED:20230301T171351Z
LAST-MODIFIED:20230301T171351Z
UID:10000594-1678815000-1678820400@jasze.hu
SUMMARY:AZ EMBERI CIVILIZÁCIÓK AZONOSSÁG-\,  KÜLÖNBSÉG- ÉS MÁSSÁG KÉPE IV.
DESCRIPTION:Világképek\, eszmék\, vallások\, ideológiák és intézményeik a múltban\, a kezdetektől a XIX. századig \nElőadó: Kopcsik István
URL:https://jasze.hu/event/az-emberi-civilizaciok-azonossag-kulonbseg-es-massag-kepe-iv-3/
CATEGORIES:Az emberi civilizációk azonosság-, különbség- és másságképe IV.
END:VEVENT
BEGIN:VEVENT
DTSTART;TZID=UTC:20230316T170000
DTEND;TZID=UTC:20230316T183000
DTSTAMP:20260421T101705
CREATED:20230228T183203Z
LAST-MODIFIED:20230228T183203Z
UID:10000735-1678986000-1678991400@jasze.hu
SUMMARY:GENIUS LOCI
DESCRIPTION:Barcelona II. \nElőadó: Ludmann Mihály művészettörténész
URL:https://jasze.hu/event/genius-loci-8/
CATEGORIES:Genius Loci
END:VEVENT
BEGIN:VEVENT
DTSTART;TZID=UTC:20230320T173000
DTEND;TZID=UTC:20230320T190000
DTSTAMP:20260421T101705
CREATED:20230228T181011Z
LAST-MODIFIED:20230228T181011Z
UID:10000723-1679333400-1679338800@jasze.hu
SUMMARY:EGYETEMES MŰVÉSZETTÖRTÉNET
DESCRIPTION:A reneszánsz szobrászat születése \nElőadó: Ludmann Mihály művészettörténész
URL:https://jasze.hu/event/egyetemes-muveszettortenet-3/
CATEGORIES:Egyetemes művészettörténet
END:VEVENT
BEGIN:VEVENT
DTSTART;TZID=UTC:20230321T173000
DTEND;TZID=UTC:20230321T190000
DTSTAMP:20260421T101705
CREATED:20230301T171700Z
LAST-MODIFIED:20230301T171700Z
UID:10000743-1679419800-1679425200@jasze.hu
SUMMARY:HALHATATLAN KULTÚRA
DESCRIPTION:Színháztörténet és színházturizmus – Medgyaszaytól Palladióig \nElőadó: Tolnai Edina színháztörténész
URL:https://jasze.hu/event/halhatatlan-kultura/
CATEGORIES:Hallhatatlan kultúra
END:VEVENT
BEGIN:VEVENT
DTSTART;TZID=UTC:20230322T173000
DTEND;TZID=UTC:20230322T190000
DTSTAMP:20260421T101705
CREATED:20230301T163513Z
LAST-MODIFIED:20230301T163513Z
UID:10000580-1679506200-1679511600@jasze.hu
SUMMARY:KOR-KÉPEK
DESCRIPTION:Rajzművészet – szem és kéz. A reneszánsz ember új szemléletmódja a világ szépségeinek látható ábrázolásában \nElőadó: Réti Mária művészettörténész
URL:https://jasze.hu/event/kor-kepek-9/
CATEGORIES:Kor-Képek
END:VEVENT
BEGIN:VEVENT
DTSTART;TZID=UTC:20230322T173000
DTEND;TZID=UTC:20230322T193000
DTSTAMP:20260421T101705
CREATED:20230301T171221Z
LAST-MODIFIED:20230301T171221Z
UID:10000592-1679506200-1679513400@jasze.hu
SUMMARY:FRANCIA ZENETÖRTÉNET
DESCRIPTION:Hatok II. (Honegger) \nElőadó: Kocsis Gábor zenetörténész
URL:https://jasze.hu/event/francia-zenetortenet-2/
CATEGORIES:Francia zenetörténet
END:VEVENT
BEGIN:VEVENT
DTSTART;TZID=UTC:20230323T170000
DTEND;TZID=UTC:20230323T183000
DTSTAMP:20260421T101705
CREATED:20230228T181509Z
LAST-MODIFIED:20230228T181509Z
UID:10000729-1679590800-1679596200@jasze.hu
SUMMARY:Stílusteremtő géniuszok
DESCRIPTION:Francisco Goya \nElőadó: Ludmann Mihály művészettörténész
URL:https://jasze.hu/event/stilusteremto-geniuszok-9/
CATEGORIES:Stílusteremtő géniuszok
END:VEVENT
BEGIN:VEVENT
DTSTART;TZID=UTC:20230323T170000
DTEND;TZID=UTC:20230323T190000
DTSTAMP:20260421T101705
CREATED:20230301T171845Z
LAST-MODIFIED:20230301T171845Z
UID:10000749-1679590800-1679598000@jasze.hu
SUMMARY:ÉLŐ ÖRÖKSÉG  Népszokás\, népművészet\, néptánc\, népzene
DESCRIPTION:Hagyományos kézművesség \nErdei Lilla néprajzkutató\, csipkeszakértő\n+ a halasi csipkekészítők képviselője
URL:https://jasze.hu/event/elo-orokseg-nepszokas-nepmuveszet-neptanc-nepzene-2/
CATEGORIES:Élő örökségünk
END:VEVENT
BEGIN:VEVENT
DTSTART;TZID=UTC:20230324T143000
DTEND;TZID=UTC:20230324T160000
DTSTAMP:20260421T101705
CREATED:20230301T164341Z
LAST-MODIFIED:20230301T164341Z
UID:10000589-1679668200-1679673600@jasze.hu
SUMMARY:HALLGASSUK ÉS NÉZZÜK EGYÜTT!
DESCRIPTION:Gioachino Rossini \nElőadó: Zelinka Tamás zenetanár\, szerkesztő
URL:https://jasze.hu/event/hallgassuk-es-nezzuk-egyutt-6/
CATEGORIES:Hallgassuk és nézzük együtt!
END:VEVENT
BEGIN:VEVENT
DTSTART;TZID=UTC:20230327T160000
DTEND;TZID=UTC:20230327T171500
DTSTAMP:20260421T101705
CREATED:20230301T163946Z
LAST-MODIFIED:20230301T163946Z
UID:10000585-1679932800-1679937300@jasze.hu
SUMMARY:MŰVÉSZETTÖRTÉNET NYUGDÍJASOKNAK
DESCRIPTION:Az itáliai reneszánsz építészet a XV. században \nElőadó: Ludmann Mihály művészettörténész
URL:https://jasze.hu/event/muveszettortenet-nyugdijasoknak-6/
CATEGORIES:Művészettörténet nyugdíjasoknak
END:VEVENT
BEGIN:VEVENT
DTSTART;TZID=UTC:20230327T173000
DTEND;TZID=UTC:20230327T190000
DTSTAMP:20260421T101705
CREATED:20230228T181122Z
LAST-MODIFIED:20230228T181122Z
UID:10000725-1679938200-1679943600@jasze.hu
SUMMARY:EGYETEMES MŰVÉSZETTÖRTÉNET
DESCRIPTION:Új szemlélet az építészetben: Brunelleschi és Alberti alkotásai \nElőadó: Ludmann Mihály művészettörténész
URL:https://jasze.hu/event/egyetemes-muveszettortenet-4/
CATEGORIES:Egyetemes művészettörténet
END:VEVENT
BEGIN:VEVENT
DTSTART;TZID=UTC:20230328T173000
DTEND;TZID=UTC:20230328T190000
DTSTAMP:20260421T101705
CREATED:20230301T171511Z
LAST-MODIFIED:20230301T171511Z
UID:10000741-1680024600-1680030000@jasze.hu
SUMMARY:AZ EMBERI CIVILIZÁCIÓK AZONOSSÁG-\,  KÜLÖNBSÉG- ÉS MÁSSÁG KÉPE IV.
DESCRIPTION:Világképek\, eszmék\, vallások\, ideológiák és intézményeik a XX. és XXI. században \nElőadó: Kopcsik István
URL:https://jasze.hu/event/az-emberi-civilizaciok-azonossag-kulonbseg-es-massag-kepe-iv-4/
CATEGORIES:Az emberi civilizációk azonosság-, különbség- és másságképe IV.
END:VEVENT
BEGIN:VEVENT
DTSTART;TZID=UTC:20230329T173000
DTEND;TZID=UTC:20230329T193000
DTSTAMP:20260421T101705
CREATED:20230301T163642Z
LAST-MODIFIED:20230301T163642Z
UID:10000581-1680111000-1680118200@jasze.hu
SUMMARY:IRODALMI ALKOTÁSOK PÁRBESZÉDE FLÓRA és FAUNA
DESCRIPTION:Lovak és lovasok \nHomérosz: Iliász; Biblia: Jelenések könyve \nAdy: Az eltévedt lovas; Füst Milán: Levél a\nrémületről; Petőfi: Egy gondolat bánt engemet; \nWeöres Sándor: Robogó szekerek; \nDosztojevszkij: Bűn és bűnhődés; Ottlik: Iskola a határon; Bulgakov: A Mester és Margarita; \nPilinszky János: Utószó; Nemes Nagy Ágnes:\nA lovak és az angyalok; Az alvó lovasok; \nTandori Dezső: Hommage; Madárzsoké \n  \nElőadó: Tamás Ferenc irodalomtörténész\, költő\, magyartanár
URL:https://jasze.hu/event/irodalmi-alkotasok-parbeszede-flora-es-fauna-9/
CATEGORIES:Irodalmi alkotások párbeszéde
END:VEVENT
BEGIN:VEVENT
DTSTART;TZID=UTC:20230330T170000
DTEND;TZID=UTC:20230330T183000
DTSTAMP:20260421T101705
CREATED:20230228T183311Z
LAST-MODIFIED:20230228T183311Z
UID:10000738-1680195600-1680201000@jasze.hu
SUMMARY:GENIUS LOCI
DESCRIPTION:München I. \nElőadó: Ludmann Mihály művészettörténész
URL:https://jasze.hu/event/genius-loci-9/
CATEGORIES:Genius Loci
END:VEVENT
END:VCALENDAR