BEGIN:VCALENDAR
VERSION:2.0
PRODID:-//TIT József Attila Szabadegyetem - ECPv6.15.20//NONSGML v1.0//EN
CALSCALE:GREGORIAN
METHOD:PUBLISH
X-WR-CALNAME:TIT József Attila Szabadegyetem
X-ORIGINAL-URL:https://jasze.hu
X-WR-CALDESC:Események TIT József Attila Szabadegyetem
REFRESH-INTERVAL;VALUE=DURATION:PT1H
X-Robots-Tag:noindex
X-PUBLISHED-TTL:PT1H
BEGIN:VTIMEZONE
TZID:UTC
BEGIN:STANDARD
TZOFFSETFROM:+0000
TZOFFSETTO:+0000
TZNAME:UTC
DTSTART:20220101T000000
END:STANDARD
END:VTIMEZONE
BEGIN:VEVENT
DTSTART;TZID=UTC:20231204T173000
DTEND;TZID=UTC:20231204T190000
DTSTAMP:20260422T090211
CREATED:20231030T130414Z
LAST-MODIFIED:20231030T130414Z
UID:10000839-1701711000-1701716400@jasze.hu
SUMMARY:EGYETEMES MŰVÉSZETTÖRTÉNET
DESCRIPTION:A velencei reneszánsz festészet a XVI. században \nElőadó: Ludmann Mihály művészettörténész
URL:https://jasze.hu/event/egyetemes-muveszettortenet-16/
CATEGORIES:Egyetemes művészettörténet
END:VEVENT
BEGIN:VEVENT
DTSTART;TZID=UTC:20231205T173000
DTEND;TZID=UTC:20231205T190000
DTSTAMP:20260422T090211
CREATED:20231030T133438Z
LAST-MODIFIED:20231030T133438Z
UID:10000641-1701797400-1701802800@jasze.hu
SUMMARY:CSALÁDTÖRTÉNET  MI TEREM A CSALÁDFÁN?
DESCRIPTION:Hiányzó adatok felkutatásának praktikái. Ismeretlen helyszínek\, dátumok keresése\nElőadó: Ari Ilona
URL:https://jasze.hu/event/csaladtortenet-mi-terem-a-csaladfan-3/
CATEGORIES:Mi terem a családfán?
END:VEVENT
BEGIN:VEVENT
DTSTART;TZID=UTC:20231205T173000
DTEND;TZID=UTC:20231205T190000
DTSTAMP:20260422T090211
CREATED:20231030T165109Z
LAST-MODIFIED:20231030T165109Z
UID:10000857-1701797400-1701802800@jasze.hu
SUMMARY:AZ EMBERI CIVILIZÁCIÓK AZONOSSÁG-\, KÜLÖNBSÉG- ÉS MÁSSÁG KÉPE V.
DESCRIPTION:A buddhizmus és a dzsainizmus kialakulása: jellegzetességei és elterjedésük \nTársadalmi és kulturális változások Asóka birodalmában \nElőadó: Kopcsik István
URL:https://jasze.hu/event/az-emberi-civilizaciok-azonossag-kulonbseg-es-massag-kepe-v-3/
CATEGORIES:Az emberi civilizációk azonosság-, különbség- és másságképe IV.
END:VEVENT
BEGIN:VEVENT
DTSTART;TZID=UTC:20231206T150000
DTEND;TZID=UTC:20231206T163000
DTSTAMP:20260422T090211
CREATED:20231030T165706Z
LAST-MODIFIED:20231030T165706Z
UID:10000860-1701874800-1701880200@jasze.hu
SUMMARY:AMERIKA ŐSLAKÓINAK NAGY KULTÚRÁI
DESCRIPTION: A fügekaktuszon ülő sas \nAz aztékok tökéletesen szervezett társadalma és ragyogó fővárosa\, Tenocstitlan \nElőadó: Kapitánffy Krisztina \n 
URL:https://jasze.hu/event/amerika-oslakoinak-nagy-kulturai-2/
CATEGORIES:AMERIKA ŐSLAKÓINAK NAGY KULTÚRÁI
END:VEVENT
BEGIN:VEVENT
DTSTART;TZID=UTC:20231206T173000
DTEND;TZID=UTC:20231206T193000
DTSTAMP:20260422T090211
CREATED:20231030T134554Z
LAST-MODIFIED:20231030T134554Z
UID:10000647-1701883800-1701891000@jasze.hu
SUMMARY:IRODALMI ALKOTÁSOK PÁRBESZÉDE Idő és irodalom
DESCRIPTION:Szent idő: advent\, karácsony \nPilinszky János: Advent; Ady Endre: A Sion-hegy alatt; József Attila: Betlehemi királyok; \nBabits Mihály: Csillag után; Eliot: A háromkirályok utazása; Leacock: Karolina karácsonya \nElőadó: Tamás Ferenc irodalomtörténész\, költő\, magyartanár
URL:https://jasze.hu/event/irodalmi-alkotasok-parbeszede-ido-es-irodalom-3/
CATEGORIES:Irodalmi alkotások párbeszéde
END:VEVENT
BEGIN:VEVENT
DTSTART;TZID=UTC:20231207T170000
DTEND;TZID=UTC:20231207T183000
DTSTAMP:20260422T090211
CREATED:20231030T131237Z
LAST-MODIFIED:20231030T131237Z
UID:10000842-1701968400-1701973800@jasze.hu
SUMMARY:STÍLUSTEREMTŐ GÉNIUSZOK
DESCRIPTION:Munkácsy Mihály \nElőadó: Ludmann Mihály művészettörténész
URL:https://jasze.hu/event/stilusteremto-geniuszok-18/
CATEGORIES:Stílusteremtő géniuszok
END:VEVENT
BEGIN:VEVENT
DTSTART;TZID=UTC:20231208T143000
DTEND;TZID=UTC:20231208T160000
DTSTAMP:20260422T090211
CREATED:20231030T163404Z
LAST-MODIFIED:20231030T163404Z
UID:10000852-1702045800-1702051200@jasze.hu
SUMMARY:HALLGASSUK ÉS NÉZZÜK EGYÜTT!
DESCRIPTION:Glória  (Ajándék) \nA Glória szövegére született zeneművek \nElőadó: Zelinka Tamás zenetanár\, szerkesztő
URL:https://jasze.hu/event/hallgassuk-es-nezzuk-egyutt-14/
CATEGORIES:Hallgassuk és nézzük együtt!
END:VEVENT
END:VCALENDAR