BEGIN:VCALENDAR
VERSION:2.0
PRODID:-//TIT József Attila Szabadegyetem - ECPv6.15.20//NONSGML v1.0//EN
CALSCALE:GREGORIAN
METHOD:PUBLISH
X-ORIGINAL-URL:https://jasze.hu
X-WR-CALDESC:Események TIT József Attila Szabadegyetem
REFRESH-INTERVAL;VALUE=DURATION:PT1H
X-Robots-Tag:noindex
X-PUBLISHED-TTL:PT1H
BEGIN:VTIMEZONE
TZID:UTC
BEGIN:STANDARD
TZOFFSETFROM:+0000
TZOFFSETTO:+0000
TZNAME:UTC
DTSTART:20230101T000000
END:STANDARD
END:VTIMEZONE
BEGIN:VEVENT
DTSTART;TZID=UTC:20240102T173000
DTEND;TZID=UTC:20240102T190000
DTSTAMP:20260422T111247
CREATED:20231231T190217Z
LAST-MODIFIED:20231231T190217Z
UID:10000678-1704216600-1704222000@jasze.hu
SUMMARY:AZ EMBERI CIVILIZÁCIÓK AZONOSSÁG-\, KÜLÖNBSÉG- ÉS MÁSSÁG KÉPE V. Az indiai szubkontinens különleges világa
DESCRIPTION:Az iszlám megjelenése és elterjedése az indiai szubkontinensen \nTársadalmi és kulturális változások\, a mogul birodalom kialakulása és jellegzetességei\, küzdelmek a rádzsput dinasztiákkal \nElőadó: Kopcsik István
URL:https://jasze.hu/event/az-emberi-civilizaciok-azonossag-kulonbseg-es-massag-kepe-v-az-indiai-szubkontinens-kulonleges-vilaga/
CATEGORIES:Az emberi civilizációk azonosság-, különbség- és másságképe IV.
END:VEVENT
BEGIN:VEVENT
DTSTART;TZID=UTC:20240103T173000
DTEND;TZID=UTC:20240103T193000
DTSTAMP:20260422T111247
CREATED:20231231T183931Z
LAST-MODIFIED:20240102T105227Z
UID:10000875-1704303000-1704310200@jasze.hu
SUMMARY:IRODALMI ALKOTÁSOK PÁRBESZÉDE Idő és irodalom
DESCRIPTION:Évszakok: Tél \nPetőfi Sándor: A puszta\, télen; A téli esték; Vas István: A tél; József Attila: Holt vidék; Téli éjszaka; Babits Mihály: Ősz és tavasz között; Rakovszky Zsuzsa: December; Jeszenyin: Porhavat zudít a fergeteg \nElőadó: Tamás Ferenc irodalomtörténész\, költő\, magyartanár
URL:https://jasze.hu/event/irodalmi-alkotasok-parbeszede-ido-es-irodalom-4/
CATEGORIES:Irodalmi alkotások párbeszéde
END:VEVENT
BEGIN:VEVENT
DTSTART;TZID=UTC:20240104T170000
DTEND;TZID=UTC:20240104T183000
DTSTAMP:20260422T111247
CREATED:20231231T175917Z
LAST-MODIFIED:20231231T175917Z
UID:10000868-1704387600-1704393000@jasze.hu
SUMMARY:STÍLUSTEREMTŐ GÉNIUSZOK
DESCRIPTION:Ybl Miklós \nElőadó: Ludmann Mihály művészettörténész
URL:https://jasze.hu/event/stilusteremto-geniuszok-19/
CATEGORIES:Stílusteremtő géniuszok
END:VEVENT
BEGIN:VEVENT
DTSTART;TZID=UTC:20240105T143000
DTEND;TZID=UTC:20240105T160000
DTSTAMP:20260422T111247
CREATED:20231231T184823Z
LAST-MODIFIED:20231231T184823Z
UID:10000880-1704465000-1704470400@jasze.hu
SUMMARY:HALLGASSUK ÉS NÉZZÜK EGYÜTT!
DESCRIPTION:A Strauss-család zenéje \nAz elmúlt évtizedek bécsi újévi koncertjeinek műsorából \nElőadó: Zelinka Tamás zenetanár\, szerkesztő
URL:https://jasze.hu/event/hallgassuk-es-nezzuk-egyutt-15/
CATEGORIES:Hallgassuk és nézzük együtt!
END:VEVENT
BEGIN:VEVENT
DTSTART;TZID=UTC:20240108T160000
DTEND;TZID=UTC:20240108T171500
DTSTAMP:20260422T111247
CREATED:20231231T184433Z
LAST-MODIFIED:20231231T184433Z
UID:10000877-1704729600-1704734100@jasze.hu
SUMMARY:MŰVÉSZETTÖRTÉNET NYUGDÍJASOKNAK
DESCRIPTION:Pontormo és a firenzei manierizmus \nElőadó: Ludmann Mihály művészettörténész
URL:https://jasze.hu/event/muveszettortenet-nyugdijasoknak-13/
CATEGORIES:Művészettörténet nyugdíjasoknak
END:VEVENT
BEGIN:VEVENT
DTSTART;TZID=UTC:20240108T173000
DTEND;TZID=UTC:20240108T190000
DTSTAMP:20260422T111247
CREATED:20231231T174813Z
LAST-MODIFIED:20231231T174813Z
UID:10000862-1704735000-1704740400@jasze.hu
SUMMARY:EGYETEMES MŰVÉSZETTÖRTÉNET III. évfolyam I. félév
DESCRIPTION:Palladio építészete és követői \nElőadó: Ludmann Mihály művészettörténész
URL:https://jasze.hu/event/egyetemes-muveszettortenet-iii-evfolyam-i-felev/
CATEGORIES:Egyetemes művészettörténet
END:VEVENT
BEGIN:VEVENT
DTSTART;TZID=UTC:20240109T173000
DTEND;TZID=UTC:20240109T190000
DTSTAMP:20260422T111247
CREATED:20231231T183750Z
LAST-MODIFIED:20231231T183750Z
UID:10000874-1704821400-1704826800@jasze.hu
SUMMARY:TÖRTÉNELEM NAPJAINK VILÁGA
DESCRIPTION:Értékvesztés és értékkeresés a modern világban\, társadalmunk strukturális szerkezete\, jövőképünk \nElőadó: Csepeli György szociálpszichológus\, pro­fesszor emeritus (ELTE) \nTémavezető: Kálóczy Béla
URL:https://jasze.hu/event/tortenelem-napjaink-vilaga/
CATEGORIES:Napjaink világa
END:VEVENT
BEGIN:VEVENT
DTSTART;TZID=UTC:20240109T173000
DTEND;TZID=UTC:20240109T190000
DTSTAMP:20260422T111247
CREATED:20231231T190740Z
LAST-MODIFIED:20231231T190740Z
UID:10000685-1704821400-1704826800@jasze.hu
SUMMARY:HALHATATLAN KULTÚRA  Szellemi úton megelevenedő tájakon
DESCRIPTION:Luther nyomában Németország világörökségi helyszínein \nElőadó: Békefi György építész\, idegenvezető
URL:https://jasze.hu/event/halhatatlan-kultura-szellemi-uton-megelevenedo-tajakon-4/
CATEGORIES:Hallhatatlan kultúra
END:VEVENT
BEGIN:VEVENT
DTSTART;TZID=UTC:20240110T153000
DTEND;TZID=UTC:20240110T170000
DTSTAMP:20260422T111247
CREATED:20231231T182143Z
LAST-MODIFIED:20231231T182143Z
UID:10000669-1704900600-1704906000@jasze.hu
SUMMARY:REMBRANDT  Két géniusz egy személyben
DESCRIPTION:Istentapasztalatok és emberi tudás II.  \nA római centurio és a kép \nElőadó: Rényi András művészettörténész
URL:https://jasze.hu/event/rembrandt-ket-geniusz-egy-szemelyben-3/
CATEGORIES:Rembrandt
END:VEVENT
BEGIN:VEVENT
DTSTART;TZID=UTC:20240110T173000
DTEND;TZID=UTC:20240110T190000
DTSTAMP:20260422T111247
CREATED:20231231T182327Z
LAST-MODIFIED:20231231T182327Z
UID:10000670-1704907800-1704913200@jasze.hu
SUMMARY:KOR-KÉPEK
DESCRIPTION:Vallomás ecsettel \nMúzsák és macskák: Klimt művészete \nElőadó: Réti Mária művészettörténész
URL:https://jasze.hu/event/kor-kepek-17/
CATEGORIES:Kor-Képek
END:VEVENT
BEGIN:VEVENT
DTSTART;TZID=UTC:20240110T173000
DTEND;TZID=UTC:20240110T193000
DTSTAMP:20260422T111247
CREATED:20231231T185507Z
LAST-MODIFIED:20231231T185507Z
UID:10000883-1704907800-1704915000@jasze.hu
SUMMARY:FRANCIA ZENETÖRTÉNET III. évfolyam I. félév
DESCRIPTION:Berlioz 1. \nElőadó: Kocsis Gábor zenetörténész
URL:https://jasze.hu/event/francia-zenetortenet-iii-evfolyam-i-felev/
CATEGORIES:Francia zenetörténet
END:VEVENT
BEGIN:VEVENT
DTSTART;TZID=UTC:20240111T170000
DTEND;TZID=UTC:20240111T183000
DTSTAMP:20260422T111247
CREATED:20231231T180623Z
LAST-MODIFIED:20231231T180623Z
UID:10000665-1704992400-1704997800@jasze.hu
SUMMARY:GENIUS LOCI
DESCRIPTION:A Magyar Királyság fővárosa\, Budapest 150 éves történelmének kiemelkedő építészeti alkotásai \nA művészet templomai: múzeumok\nés kiállítóterek \nElőadó: Ludmann Mihály művészettörténész
URL:https://jasze.hu/event/genius-loci-18/
CATEGORIES:Genius Loci
END:VEVENT
BEGIN:VEVENT
DTSTART;TZID=UTC:20240112T143000
DTEND;TZID=UTC:20240112T160000
DTSTAMP:20260422T111247
CREATED:20231030T163224Z
LAST-MODIFIED:20231127T093340Z
UID:10000851-1705069800-1705075200@jasze.hu
SUMMARY:HALLGASSUK ÉS NÉZZÜK EGYÜTT!
DESCRIPTION:Gustav Holst: Bolygók \nElőadó: Zelinka Tamás zenetanár\, szerkesztő
URL:https://jasze.hu/event/hallgassuk-es-nezzuk-egyutt-13/
CATEGORIES:Hallgassuk és nézzük együtt!
END:VEVENT
BEGIN:VEVENT
DTSTART;TZID=UTC:20240115T173000
DTEND;TZID=UTC:20240115T190000
DTSTAMP:20260422T111247
CREATED:20231231T175029Z
LAST-MODIFIED:20231231T175029Z
UID:10000863-1705339800-1705345200@jasze.hu
SUMMARY:EGYETEMES MŰVÉSZETTÖRTÉNET III. évfolyam I. félév
DESCRIPTION:Dürer és a német reneszánsz művészet \nElőadó: Ludmann Mihály művészettörténész
URL:https://jasze.hu/event/egyetemes-muveszettortenet-iii-evfolyam-i-felev-2/
CATEGORIES:Egyetemes művészettörténet
END:VEVENT
BEGIN:VEVENT
DTSTART;TZID=UTC:20240116T173000
DTEND;TZID=UTC:20240116T190000
DTSTAMP:20260422T111247
CREATED:20231231T183224Z
LAST-MODIFIED:20231231T183224Z
UID:10000870-1705426200-1705431600@jasze.hu
SUMMARY:CSALÁDTÖRTÉNET  MI TEREM A CSALÁDFÁN?
DESCRIPTION:Milyen lehetőséget nyújt a Familysearch?\nElőadó: Vörös-Újvári Hajnalka
URL:https://jasze.hu/event/csaladtortenet-mi-terem-a-csaladfan-4/
CATEGORIES:Mi terem a családfán?
END:VEVENT
BEGIN:VEVENT
DTSTART;TZID=UTC:20240116T173000
DTEND;TZID=UTC:20240116T190000
DTSTAMP:20260422T111247
CREATED:20231231T190348Z
LAST-MODIFIED:20231231T190348Z
UID:10000680-1705426200-1705431600@jasze.hu
SUMMARY:AZ EMBERI CIVILIZÁCIÓK AZONOSSÁG-\, KÜLÖNBSÉG- ÉS MÁSSÁG KÉPE V. Az indiai szubkontinens különleges világa
DESCRIPTION:A európai gyarmatosítás folyamata és hatása a gazdasági\, társadalmi és kulturális élet jellegzetességeire \nElőadó: Kopcsik István
URL:https://jasze.hu/event/az-emberi-civilizaciok-azonossag-kulonbseg-es-massag-kepe-v-az-indiai-szubkontinens-kulonleges-vilaga-2/
CATEGORIES:Az emberi civilizációk azonosság-, különbség- és másságképe IV.
END:VEVENT
BEGIN:VEVENT
DTSTART;TZID=UTC:20240117T150000
DTEND;TZID=UTC:20240117T163000
DTSTAMP:20260422T111247
CREATED:20231231T191036Z
LAST-MODIFIED:20231231T191036Z
UID:10000687-1705503600-1705509000@jasze.hu
SUMMARY:AMERIKA ŐSLAKÓINAK NAGY KULTÚRÁI
DESCRIPTION:Machu Picchu meséi \nA Kolumbusz előtti Amerika legnagyobb (inka) birodalmának alig száz éves tündöklése \nElőadó: Kapitánffy Krisztina
URL:https://jasze.hu/event/amerika-oslakoinak-nagy-kulturai-3/
CATEGORIES:AMERIKA ŐSLAKÓINAK NAGY KULTÚRÁI
END:VEVENT
BEGIN:VEVENT
DTSTART;TZID=UTC:20240117T170000
DTEND;TZID=UTC:20240117T190000
DTSTAMP:20260422T111247
CREATED:20231231T191353Z
LAST-MODIFIED:20231231T191353Z
UID:10000690-1705510800-1705518000@jasze.hu
SUMMARY:ÉLŐ ÖRÖKSÉG  Gasztronómia\, természeti tudás\, városi hagyományok\, ipari örökség
DESCRIPTION:Városi hagyományok mint szellemi örökség \nDr. Bali János néprajzkutató\, kulturális antropológus + a selmeci diákhagyományokat gyakorló közösség képviselője
URL:https://jasze.hu/event/elo-orokseg-gasztronomia-termeszeti-tudas-varosi-hagyomanyok-ipari-orokseg-2/
CATEGORIES:Élő örökségünk
END:VEVENT
BEGIN:VEVENT
DTSTART;TZID=UTC:20240118T170000
DTEND;TZID=UTC:20240118T183000
DTSTAMP:20260422T111247
CREATED:20231231T180103Z
LAST-MODIFIED:20231231T180103Z
UID:10000660-1705597200-1705602600@jasze.hu
SUMMARY:STÍLUSTEREMTŐ GÉNIUSZOK
DESCRIPTION:Stróbl Alajos \nElőadó: Ludmann Mihály művészettörténész
URL:https://jasze.hu/event/stilusteremto-geniuszok-20/
CATEGORIES:Stílusteremtő géniuszok
END:VEVENT
BEGIN:VEVENT
DTSTART;TZID=UTC:20240119T143000
DTEND;TZID=UTC:20240119T160000
DTSTAMP:20260422T111247
CREATED:20231231T185110Z
LAST-MODIFIED:20231231T185113Z
UID:10000881-1705674600-1705680000@jasze.hu
SUMMARY:HALLGASSUK ÉS NÉZZÜK EGYÜTT!
DESCRIPTION:Dolce vita \nJonas Kaufmann népszerű olasz dalokat énekel \nElőadó: Zelinka Tamás zenetanár\, szerkesztő
URL:https://jasze.hu/event/hallgassuk-es-nezzuk-egyutt-16/
CATEGORIES:Hallgassuk és nézzük együtt!
END:VEVENT
BEGIN:VEVENT
DTSTART;TZID=UTC:20240122T160000
DTEND;TZID=UTC:20240122T171500
DTSTAMP:20260422T111247
CREATED:20231231T184540Z
LAST-MODIFIED:20231231T184540Z
UID:10000878-1705939200-1705943700@jasze.hu
SUMMARY:MŰVÉSZETTÖRTÉNET NYUGDÍJASOKNAK
DESCRIPTION:A velencei festészet a XVI. század\nmásodik felében \nElőadó: Ludmann Mihály művészettörténész
URL:https://jasze.hu/event/muveszettortenet-nyugdijasoknak-14/
CATEGORIES:Művészettörténet nyugdíjasoknak
END:VEVENT
BEGIN:VEVENT
DTSTART;TZID=UTC:20240122T173000
DTEND;TZID=UTC:20240122T190000
DTSTAMP:20260422T111247
CREATED:20231231T175156Z
LAST-MODIFIED:20231231T175156Z
UID:10000864-1705944600-1705950000@jasze.hu
SUMMARY:EGYETEMES MŰVÉSZETTÖRTÉNET III. évfolyam I. félév
DESCRIPTION:A firenzei manierizmus mesterei \nElőadó: Ludmann Mihály művészettörténész
URL:https://jasze.hu/event/egyetemes-muveszettortenet-iii-evfolyam-i-felev-3/
CATEGORIES:Egyetemes művészettörténet
END:VEVENT
BEGIN:VEVENT
DTSTART;TZID=UTC:20240124T173000
DTEND;TZID=UTC:20240124T190000
DTSTAMP:20260422T111247
CREATED:20231231T182503Z
LAST-MODIFIED:20231231T182503Z
UID:10000671-1706117400-1706122800@jasze.hu
SUMMARY:KOR-KÉPEK
DESCRIPTION:Vallomás ecsettel \nMúzsák és modellek: Auguste Renoir\, a fény festője\n(felkészülés az év kiállítására) \nElőadó: Réti Mária művészettörténész
URL:https://jasze.hu/event/kor-kepek-18/
CATEGORIES:Kor-Képek
END:VEVENT
BEGIN:VEVENT
DTSTART;TZID=UTC:20240124T173000
DTEND;TZID=UTC:20240124T193000
DTSTAMP:20260422T111247
CREATED:20231231T185614Z
LAST-MODIFIED:20231231T185614Z
UID:10000884-1706117400-1706124600@jasze.hu
SUMMARY:FRANCIA ZENETÖRTÉNET III. évfolyam I. félév
DESCRIPTION:Berlioz 2. \nElőadó: Kocsis Gábor zenetörténész
URL:https://jasze.hu/event/francia-zenetortenet-iii-evfolyam-i-felev-2/
CATEGORIES:Francia zenetörténet
END:VEVENT
BEGIN:VEVENT
DTSTART;TZID=UTC:20240125T170000
DTEND;TZID=UTC:20240125T183000
DTSTAMP:20260422T111247
CREATED:20231231T180758Z
LAST-MODIFIED:20231231T180758Z
UID:10000667-1706202000-1706207400@jasze.hu
SUMMARY:GENIUS LOCI
DESCRIPTION:A Magyar Királyság fővárosa\, Budapest 150 éves történelmének kiemelkedő építészeti alkotásai \nAz önfeledt kikapcsolódás helyei:\na mulatók\, kávéházak és a mozik \nElőadó: Ludmann Mihály művészettörténész
URL:https://jasze.hu/event/genius-loci-19/
CATEGORIES:Genius Loci
END:VEVENT
BEGIN:VEVENT
DTSTART;TZID=UTC:20240129T173000
DTEND;TZID=UTC:20240129T190000
DTSTAMP:20260422T111247
CREATED:20231231T175322Z
LAST-MODIFIED:20231231T175322Z
UID:10000865-1706549400-1706554800@jasze.hu
SUMMARY:EGYETEMES MŰVÉSZETTÖRTÉNET III. évfolyam I. félév
DESCRIPTION:A reneszánsz és a manierizmus\na spanyol művészetben \nElőadó: Ludmann Mihály művészettörténész
URL:https://jasze.hu/event/egyetemes-muveszettortenet-iii-evfolyam-i-felev-4/
CATEGORIES:Egyetemes művészettörténet
END:VEVENT
BEGIN:VEVENT
DTSTART;TZID=UTC:20240130T173000
DTEND;TZID=UTC:20240130T190000
DTSTAMP:20260422T111247
CREATED:20231231T183341Z
LAST-MODIFIED:20231231T183341Z
UID:10000871-1706635800-1706641200@jasze.hu
SUMMARY:CSALÁDTÖRTÉNET  MI TEREM A CSALÁDFÁN?
DESCRIPTION:Közös kutatás a Familysearch-ön\nElőadó: Vörös-Újvári Hajnalka
URL:https://jasze.hu/event/csaladtortenet-mi-terem-a-csaladfan-5/
CATEGORIES:Mi terem a családfán?
END:VEVENT
BEGIN:VEVENT
DTSTART;TZID=UTC:20240130T173000
DTEND;TZID=UTC:20240130T190000
DTSTAMP:20260422T111247
CREATED:20231231T190449Z
LAST-MODIFIED:20231231T190449Z
UID:10000681-1706635800-1706641200@jasze.hu
SUMMARY:AZ EMBERI CIVILIZÁCIÓK AZONOSSÁG-\, KÜLÖNBSÉG- ÉS MÁSSÁG KÉPE V. Az indiai szubkontinens különleges világa
DESCRIPTION:A gyarmati felszabadítási mozgalmak kialakulása és jellegzetességei\, kiemelkedő személyiségei \nA függetlenség elérése\, a szubkontinens 4 országra való szétszakadása \nElőadó: Kopcsik István
URL:https://jasze.hu/event/az-emberi-civilizaciok-azonossag-kulonbseg-es-massag-kepe-v-az-indiai-szubkontinens-kulonleges-vilaga-3/
CATEGORIES:Az emberi civilizációk azonosság-, különbség- és másságképe IV.
END:VEVENT
BEGIN:VEVENT
DTSTART;TZID=UTC:20240131T150000
DTEND;TZID=UTC:20240131T163000
DTSTAMP:20260422T111247
CREATED:20231231T191145Z
LAST-MODIFIED:20231231T191145Z
UID:10000688-1706713200-1706718600@jasze.hu
SUMMARY:AMERIKA ŐSLAKÓINAK NAGY KULTÚRÁI
DESCRIPTION:Mexikó és Peru a gyarmatosítástól\nnapjainkig \nElőadó: Kapitánffy Krisztina
URL:https://jasze.hu/event/amerika-oslakoinak-nagy-kulturai-4/
CATEGORIES:AMERIKA ŐSLAKÓINAK NAGY KULTÚRÁI
END:VEVENT
BEGIN:VEVENT
DTSTART;TZID=UTC:20240131T173000
DTEND;TZID=UTC:20240131T193000
DTSTAMP:20260422T111247
CREATED:20231231T184233Z
LAST-MODIFIED:20231231T184233Z
UID:10000876-1706722200-1706729400@jasze.hu
SUMMARY:IRODALMI ALKOTÁSOK PÁRBESZÉDE Idő és irodalom
DESCRIPTION:Az elszökő idő \nVillon: A Nagy Testamentum; Vas István: Óda a tegnapi asszonyokhoz; Ballada és ellenballada az ifjúságról; Radnóti Miklós: A la recherche; Apollinaire: A Mirabeau-híd; Kosztolányi Dezső: Mint aki sínek közé esett; Arany János: Letészem a lantot; Berzsenyi Dániel: A közelítő tél; Rakovszky Zsuzsa: Dal az időről \nElőadó: Tamás Ferenc irodalomtörténész\, költő\, magyartanár
URL:https://jasze.hu/event/irodalmi-alkotasok-parbeszede-ido-es-irodalom-6/
CATEGORIES:Irodalmi alkotások párbeszéde
END:VEVENT
END:VCALENDAR