BEGIN:VCALENDAR
VERSION:2.0
PRODID:-//TIT József Attila Szabadegyetem - ECPv6.15.20//NONSGML v1.0//EN
CALSCALE:GREGORIAN
METHOD:PUBLISH
X-ORIGINAL-URL:https://jasze.hu
X-WR-CALDESC:Események TIT József Attila Szabadegyetem
REFRESH-INTERVAL;VALUE=DURATION:PT1H
X-Robots-Tag:noindex
X-PUBLISHED-TTL:PT1H
BEGIN:VTIMEZONE
TZID:UTC
BEGIN:STANDARD
TZOFFSETFROM:+0000
TZOFFSETTO:+0000
TZNAME:UTC
DTSTART:20230101T000000
END:STANDARD
END:VTIMEZONE
BEGIN:VEVENT
DTSTART;TZID=UTC:20240402T173000
DTEND;TZID=UTC:20240402T190000
DTSTAMP:20260422T163429
CREATED:20240331T190401Z
LAST-MODIFIED:20240331T190401Z
UID:10000911-1712079000-1712084400@jasze.hu
SUMMARY:A 20. SZÁZAD TÖRTÉNELMI SZEMÉLYISÉGEI
DESCRIPTION:Rákosi Mátyás \nElőadó: Romsics Ignác történész \nSzerkesztő: Kálóczy Béla
URL:https://jasze.hu/event/a-20-szazad-tortenelmi-szemelyisegei-3/
CATEGORIES:A 20. SZÁZAD TÖRTÉNELMI SZEMÉLYISÉGEI
END:VEVENT
BEGIN:VEVENT
DTSTART;TZID=UTC:20240403T150000
DTEND;TZID=UTC:20240403T163000
DTSTAMP:20260422T163429
CREATED:20240331T190708Z
LAST-MODIFIED:20240331T190708Z
UID:10000912-1712156400-1712161800@jasze.hu
SUMMARY:ORSZÁGRÓL ORSZÁGRA A NAGYVILÁGBAN
DESCRIPTION:A 18 ezer sziget országa: Indonézia \nElőadó: Kapitánffy Krisztina
URL:https://jasze.hu/event/orszagrol-orszagra-a-nagyvilagban-4/
CATEGORIES:Országról országra
END:VEVENT
BEGIN:VEVENT
DTSTART;TZID=UTC:20240403T173000
DTEND;TZID=UTC:20240403T190000
DTSTAMP:20260422T163429
CREATED:20240331T190958Z
LAST-MODIFIED:20240331T190958Z
UID:10000913-1712165400-1712170800@jasze.hu
SUMMARY:KOR-KÉPEK
DESCRIPTION:„Asszonyok a kereszt alatt” \nElőadó: Réti Mária művészettörténész
URL:https://jasze.hu/event/kor-kepek-23/
CATEGORIES:Kor-Képek
END:VEVENT
BEGIN:VEVENT
DTSTART;TZID=UTC:20240403T173000
DTEND;TZID=UTC:20240403T190000
DTSTAMP:20260422T163429
CREATED:20240331T191155Z
LAST-MODIFIED:20240331T191155Z
UID:10000914-1712165400-1712170800@jasze.hu
SUMMARY:MAHLER
DESCRIPTION:III. szimfónia \nElőadó: Kocsis Gábor zenetörténész
URL:https://jasze.hu/event/mahler-3/
CATEGORIES:Mahler
END:VEVENT
BEGIN:VEVENT
DTSTART;TZID=UTC:20240404T170000
DTEND;TZID=UTC:20240404T183000
DTSTAMP:20260422T163429
CREATED:20240331T191433Z
LAST-MODIFIED:20240331T191433Z
UID:10000915-1712250000-1712255400@jasze.hu
SUMMARY:GENIUS LOCI
DESCRIPTION:A Szabadság tér és emlékműveinek története \nElőadó: Ludmann Mihály\, művészettörténész
URL:https://jasze.hu/event/genius-loci-24/
CATEGORIES:Genius Loci
END:VEVENT
BEGIN:VEVENT
DTSTART;TZID=UTC:20240405T143000
DTEND;TZID=UTC:20240405T160000
DTSTAMP:20260422T163429
CREATED:20240331T191709Z
LAST-MODIFIED:20240331T191709Z
UID:10000916-1712327400-1712332800@jasze.hu
SUMMARY:HALLGASSUK ÉS NÉZZÜK EGYÜTT!
DESCRIPTION:Gaetano Donizetti és Gioachino Rossini\nvígoperáiból \nElőadó: Zelinka Tamás zenetanár\, szerkesztő
URL:https://jasze.hu/event/hallgassuk-es-nezzuk-egyutt-21/
CATEGORIES:Hallgassuk és nézzük együtt!
END:VEVENT
BEGIN:VEVENT
DTSTART;TZID=UTC:20240408T173000
DTEND;TZID=UTC:20240408T190000
DTSTAMP:20260422T163429
CREATED:20240407T184205Z
LAST-MODIFIED:20240407T184205Z
UID:10000917-1712597400-1712602800@jasze.hu
SUMMARY:EGYETEMES MŰVÉSZETTÖRTÉNET
DESCRIPTION:A német barokk művészet \nElőadó: Ludmann Mihály\, művészettörténész
URL:https://jasze.hu/event/egyetemes-muveszettortenet-23/
CATEGORIES:Egyetemes művészettörténet
END:VEVENT
BEGIN:VEVENT
DTSTART;TZID=UTC:20240410T173000
DTEND;TZID=UTC:20240410T190000
DTSTAMP:20260422T163429
CREATED:20240407T184730Z
LAST-MODIFIED:20240407T184730Z
UID:10000918-1712770200-1712775600@jasze.hu
SUMMARY:IRODALMI ALKOTÁSOK PÁRBESZÉDE Idő és irodalom
DESCRIPTION:Napszakok: délután\, alkonyat\, este \nElőadó: Tamás Ferenc irodalomtörténész\, költő\, magyartanár
URL:https://jasze.hu/event/irodalmi-alkotasok-parbeszede-ido-es-irodalom-11/
CATEGORIES:Irodalmi alkotások párbeszéde
END:VEVENT
BEGIN:VEVENT
DTSTART;TZID=UTC:20240411T170000
DTEND;TZID=UTC:20240411T183000
DTSTAMP:20260422T163429
CREATED:20240407T184956Z
LAST-MODIFIED:20240407T184956Z
UID:10000919-1712854800-1712860200@jasze.hu
SUMMARY:STÍLUSTEREMTŐ GÉNIUSZOK
DESCRIPTION:Füredi Richárd     \nElőadó: Ludmann Mihály\, művészettörténész
URL:https://jasze.hu/event/stilusteremto-geniuszok-26/
CATEGORIES:Stílusteremtő géniuszok
END:VEVENT
BEGIN:VEVENT
DTSTART;TZID=UTC:20240415T160000
DTEND;TZID=UTC:20240415T171500
DTSTAMP:20260422T163429
CREATED:20240411T125024Z
LAST-MODIFIED:20240411T125024Z
UID:10000921-1713196800-1713201300@jasze.hu
SUMMARY:MŰVÉSZETTÖRTÉNET NYUGDÍJASOKNAK
DESCRIPTION:A római barokk építészete és szobrászata \n\n\n\n\nElőadó: Ludmann Mihály\, művészettörténész
URL:https://jasze.hu/event/muveszettortenet-nyugdijasoknak-19/
CATEGORIES:Művészettörténet nyugdíjasoknak
END:VEVENT
BEGIN:VEVENT
DTSTART;TZID=UTC:20240415T173000
DTEND;TZID=UTC:20240415T190000
DTSTAMP:20260422T163429
CREATED:20240411T124716Z
LAST-MODIFIED:20240411T124716Z
UID:10000920-1713202200-1713207600@jasze.hu
SUMMARY:EGYETEMES MŰVÉSZETTÖRTÉNET
DESCRIPTION:Rubens és tanítványai \nElőadó: Ludmann Mihály művészettörténész
URL:https://jasze.hu/event/egyetemes-muveszettortenet-24/
CATEGORIES:Egyetemes művészettörténet
END:VEVENT
BEGIN:VEVENT
DTSTART;TZID=UTC:20240416T173000
DTEND;TZID=UTC:20240416T190000
DTSTAMP:20260422T163429
CREATED:20240411T125309Z
LAST-MODIFIED:20240411T125309Z
UID:10000922-1713288600-1713294000@jasze.hu
SUMMARY:HALHATATLAN KULTÚRA
DESCRIPTION:Téboly és zsenialitás – II. Lajos király építkezései Bajorországban \nElőadó: Bodó Péter idegenvezető
URL:https://jasze.hu/event/halhatatlan-kultura-3/
CATEGORIES:Hallhatatlan kultúra
END:VEVENT
BEGIN:VEVENT
DTSTART;TZID=UTC:20240416T173000
DTEND;TZID=UTC:20240416T190000
DTSTAMP:20260422T163429
CREATED:20240411T125550Z
LAST-MODIFIED:20240411T125550Z
UID:10000923-1713288600-1713294000@jasze.hu
SUMMARY:A 20. SZÁZAD TÖRTÉNELMI SZEMÉLYISÉGEI
DESCRIPTION:Kádár János \n\n\n\n\nElőadó: Romsics Ignác történész \nSzerkesztő: Kálóczy Béla
URL:https://jasze.hu/event/a-20-szazad-tortenelmi-szemelyisegei-4/
CATEGORIES:A 20. SZÁZAD TÖRTÉNELMI SZEMÉLYISÉGEI
END:VEVENT
BEGIN:VEVENT
DTSTART;TZID=UTC:20240417T150000
DTEND;TZID=UTC:20240417T163000
DTSTAMP:20260422T163429
CREATED:20240411T125824Z
LAST-MODIFIED:20240411T125824Z
UID:10000924-1713366000-1713371400@jasze.hu
SUMMARY:ORSZÁGRÓL ORSZÁGRA A NAGYVILÁGBAN
DESCRIPTION:Európa smaragdzöld szigete: Írország  \n\n\n\n\nElőadó: Kapitánffy Krisztina
URL:https://jasze.hu/event/orszagrol-orszagra-a-nagyvilagban-5/
CATEGORIES:Országról országra
END:VEVENT
BEGIN:VEVENT
DTSTART;TZID=UTC:20240417T173000
DTEND;TZID=UTC:20240417T190000
DTSTAMP:20260422T163429
CREATED:20240411T130106Z
LAST-MODIFIED:20240411T130106Z
UID:10000925-1713375000-1713380400@jasze.hu
SUMMARY:KOR-KÉPEK
DESCRIPTION:Csodálatos utazás  \n„Kivonulás” a szecesszió világába. Az építészet virágzása\, a „virágos” stílusban \nElőadó: Réti Mária művészettörténész
URL:https://jasze.hu/event/kor-kepek-24/
CATEGORIES:Kor-Képek
END:VEVENT
BEGIN:VEVENT
DTSTART;TZID=UTC:20240417T173000
DTEND;TZID=UTC:20240417T193000
DTSTAMP:20260422T163429
CREATED:20240411T130315Z
LAST-MODIFIED:20240411T130315Z
UID:10000717-1713375000-1713382200@jasze.hu
SUMMARY:MAHLER
DESCRIPTION:IV. szimfónia\, Gyermekgyászdalok \nElőadó: Kocsis Gábor zenetörténész
URL:https://jasze.hu/event/mahler-4/
CATEGORIES:Mahler
END:VEVENT
BEGIN:VEVENT
DTSTART;TZID=UTC:20240418T170000
DTEND;TZID=UTC:20240418T183000
DTSTAMP:20260422T163429
CREATED:20240411T130624Z
LAST-MODIFIED:20240411T130624Z
UID:10000719-1713459600-1713465000@jasze.hu
SUMMARY:GENIUS LOCI
DESCRIPTION:A hősi emlékművek és a temetők művészete \n\n\n\n\nElőadó: Ludmann Mihály\, művészettörténész
URL:https://jasze.hu/event/genius-loci-25/
CATEGORIES:Genius Loci
END:VEVENT
BEGIN:VEVENT
DTSTART;TZID=UTC:20240419T143000
DTEND;TZID=UTC:20240419T160000
DTSTAMP:20260422T163429
CREATED:20240411T130954Z
LAST-MODIFIED:20240411T130954Z
UID:10000721-1713537000-1713542400@jasze.hu
SUMMARY:HALLGASSUK ÉS NÉZZÜK EGYÜTT!
DESCRIPTION:Musical-parádé \nA muzsika hangja\, My Fair Lady\, Mary Poppins\, Macskák \nElőadó: Zelinka Tamás  zenetanár\, szerkesztő
URL:https://jasze.hu/event/hallgassuk-es-nezzuk-egyutt-22/
CATEGORIES:Hallgassuk és nézzük együtt!
END:VEVENT
BEGIN:VEVENT
DTSTART;TZID=UTC:20240422T173000
DTEND;TZID=UTC:20240422T190000
DTSTAMP:20260422T163429
CREATED:20240420T125622Z
LAST-MODIFIED:20240420T125622Z
UID:10000722-1713807000-1713812400@jasze.hu
SUMMARY:EGYETEMES MŰVÉSZETTÖRTÉNET
DESCRIPTION:A flamand festészet új műfajai és mesterei \n 
URL:https://jasze.hu/event/egyetemes-muveszettortenet-25/
CATEGORIES:Egyetemes művészettörténet
END:VEVENT
BEGIN:VEVENT
DTSTART;TZID=UTC:20240423T173000
DTEND;TZID=UTC:20240423T190000
DTSTAMP:20260422T163429
CREATED:20240420T125838Z
LAST-MODIFIED:20240420T125838Z
UID:10000724-1713893400-1713898800@jasze.hu
SUMMARY:AZ EMBERI CIVILIZÁCIÓK AZONOSSÁG-\, KÜLÖNBSÉG- ÉS MÁSSÁG KÉPE VII.
DESCRIPTION:A kínai civilizáció a kezdetektől a mongol megszállásig\, a nyugat és a „Mennyei Birodalom” találkozása \nElőadó: Kopcsik István
URL:https://jasze.hu/event/az-emberi-civilizaciok-azonossag-kulonbseg-es-massag-kepe-vii-4/
CATEGORIES:Az emberi civilizációk azonosság-, különbség- és másságképe IV.
END:VEVENT
BEGIN:VEVENT
DTSTART;TZID=UTC:20240424T173000
DTEND;TZID=UTC:20240424T193000
DTSTAMP:20260422T163429
CREATED:20240420T130041Z
LAST-MODIFIED:20240420T130041Z
UID:10000726-1713979800-1713987000@jasze.hu
SUMMARY:IRODALMI ALKOTÁSOK PÁRBESZÉDE Idő és irodalom
DESCRIPTION:Megáll az idő \nElőadó: Tamás Ferenc irodalomtörténész\, költő\, magyartanár
URL:https://jasze.hu/event/irodalmi-alkotasok-parbeszede-ido-es-irodalom-12/
CATEGORIES:Irodalmi alkotások párbeszéde
END:VEVENT
BEGIN:VEVENT
DTSTART;TZID=UTC:20240425T170000
DTEND;TZID=UTC:20240425T183000
DTSTAMP:20260422T163429
CREATED:20240420T130250Z
LAST-MODIFIED:20240420T130250Z
UID:10000728-1714064400-1714069800@jasze.hu
SUMMARY:STÍLUSTEREMTŐ GÉNIUSZOK
DESCRIPTION:Edvard Munch \nElőadó: Ludmann Mihály\, művészettörténész
URL:https://jasze.hu/event/stilusteremto-geniuszok-27/
CATEGORIES:Stílusteremtő géniuszok
END:VEVENT
BEGIN:VEVENT
DTSTART;TZID=UTC:20240429T160000
DTEND;TZID=UTC:20240429T171500
DTSTAMP:20260422T163429
CREATED:20240428T125223Z
LAST-MODIFIED:20240428T125517Z
UID:10000730-1714406400-1714410900@jasze.hu
SUMMARY:MŰVÉSZETTÖRTÉNET NYUGDÍJASOKNAK
DESCRIPTION:Rubens és tanítványainak művészete \nElőadó: Ludmann Mihály\, művészettörténész
URL:https://jasze.hu/event/3080/
CATEGORIES:Művészettörténet nyugdíjasoknak
END:VEVENT
BEGIN:VEVENT
DTSTART;TZID=UTC:20240429T173000
DTEND;TZID=UTC:20240429T190000
DTSTAMP:20260422T163429
CREATED:20240428T125437Z
LAST-MODIFIED:20240428T125437Z
UID:10000732-1714411800-1714417200@jasze.hu
SUMMARY:EGYETEMES MŰVÉSZETTÖRTÉNET
DESCRIPTION:Rembrandt és köre \nElőadó: Ludmann Mihály\, művészettörténész \n 
URL:https://jasze.hu/event/egyetemes-muveszettortenet-26/
CATEGORIES:Egyetemes művészettörténet
END:VEVENT
END:VCALENDAR