BEGIN:VCALENDAR
VERSION:2.0
PRODID:-//TIT József Attila Szabadegyetem - ECPv6.15.20//NONSGML v1.0//EN
CALSCALE:GREGORIAN
METHOD:PUBLISH
X-ORIGINAL-URL:https://jasze.hu
X-WR-CALDESC:Események TIT József Attila Szabadegyetem
REFRESH-INTERVAL;VALUE=DURATION:PT1H
X-Robots-Tag:noindex
X-PUBLISHED-TTL:PT1H
BEGIN:VTIMEZONE
TZID:UTC
BEGIN:STANDARD
TZOFFSETFROM:+0000
TZOFFSETTO:+0000
TZNAME:UTC
DTSTART:20230101T000000
END:STANDARD
END:VTIMEZONE
BEGIN:VEVENT
DTSTART;TZID=UTC:20240301T143000
DTEND;TZID=UTC:20240301T160000
DTSTAMP:20260422T182513
CREATED:20240226T120548Z
LAST-MODIFIED:20240226T120548Z
UID:10000709-1709303400-1709308800@jasze.hu
SUMMARY:HALLGASSUK ÉS NÉZZÜK EGYÜTT!
DESCRIPTION:Szerzői örömök \nElőadó: Zelinka Tamás zenetanár\, szerkesztő
URL:https://jasze.hu/event/hallgassuk-es-nezzuk-egyutt-19/
CATEGORIES:Hallgassuk és nézzük együtt!
END:VEVENT
BEGIN:VEVENT
DTSTART;TZID=UTC:20240304T160000
DTEND;TZID=UTC:20240304T171500
DTSTAMP:20260422T182513
CREATED:20240226T115551Z
LAST-MODIFIED:20240226T115551Z
UID:10000703-1709568000-1709572500@jasze.hu
SUMMARY:MŰVÉSZETTÖRTÉNET NYUGDÍJASOKNAK
DESCRIPTION:A manierizmus szobrászata \nElőadó: Ludmann Mihály művészettörténész
URL:https://jasze.hu/event/muveszettortenet-nyugdijasoknak-17/
CATEGORIES:Művészettörténet nyugdíjasoknak
END:VEVENT
BEGIN:VEVENT
DTSTART;TZID=UTC:20240304T173000
DTEND;TZID=UTC:20240304T190000
DTSTAMP:20260422T182513
CREATED:20240226T113120Z
LAST-MODIFIED:20240226T113120Z
UID:10000897-1709573400-1709578800@jasze.hu
SUMMARY:EGYETEMES MŰVÉSZETTÖRTÉNET
DESCRIPTION:A barokk szobrászat virágkora \nElőadó: Ludmann Mihály művészettörténész
URL:https://jasze.hu/event/egyetemes-muveszettortenet-19/
CATEGORIES:Egyetemes művészettörténet
END:VEVENT
BEGIN:VEVENT
DTSTART;TZID=UTC:20240305T173000
DTEND;TZID=UTC:20240305T190000
DTSTAMP:20260422T182513
CREATED:20240226T114847Z
LAST-MODIFIED:20240226T115137Z
UID:10000698-1709659800-1709665200@jasze.hu
SUMMARY:A 20. SZÁZAD TÖRTÉNELMI SZEMÉLYISÉGEI
DESCRIPTION:Horthy Miklós \nElőadó: Romsics Ignác történész \nSzerkesztő: Kálóczy Béla
URL:https://jasze.hu/event/a-20-szazad-tortenelmi-szemelyisegei/
CATEGORIES:A 20. SZÁZAD TÖRTÉNELMI SZEMÉLYISÉGEI
END:VEVENT
BEGIN:VEVENT
DTSTART;TZID=UTC:20240305T173000
DTEND;TZID=UTC:20240305T190000
DTSTAMP:20260422T182513
CREATED:20240226T121549Z
LAST-MODIFIED:20240226T121549Z
UID:10000910-1709659800-1709665200@jasze.hu
SUMMARY:HALHATATLAN KULTÚRA  Szellemi úton megelevenedő tájakon
DESCRIPTION:Madagaszkár – édeni szépség és a harmadik világ \nElőadó: Somogyi Orsolya idegenvezető
URL:https://jasze.hu/event/halhatatlan-kultura-szellemi-uton-megelevenedo-tajakon-6/
CATEGORIES:Hallhatatlan kultúra
END:VEVENT
BEGIN:VEVENT
DTSTART;TZID=UTC:20240306T150000
DTEND;TZID=UTC:20240306T163000
DTSTAMP:20260422T182513
CREATED:20240226T115922Z
LAST-MODIFIED:20240226T115922Z
UID:10000707-1709737200-1709742600@jasze.hu
SUMMARY:ORSZÁGRÓL ORSZÁGRA A NAGYVILÁGBAN
DESCRIPTION:Selyemút a 21. században. Utazások\nÜzbegisztánban \nElőadó: Kapitánffy Krisztina
URL:https://jasze.hu/event/orszagrol-orszagra-a-nagyvilagban-2/
CATEGORIES:Országról országra
END:VEVENT
BEGIN:VEVENT
DTSTART;TZID=UTC:20240306T173000
DTEND;TZID=UTC:20240306T190000
DTSTAMP:20260422T182513
CREATED:20240226T114505Z
LAST-MODIFIED:20240226T114505Z
UID:10000905-1709746200-1709751600@jasze.hu
SUMMARY:KOR-KÉPEK
DESCRIPTION:Legenda és mítoszok (Pótlás!) \nLegendás fáraók és legendás fáraónők a történelem alakítói: harc a hatalomért\, szenvedély és szenvedés \nElőadó: Réti Mária művészettörténész
URL:https://jasze.hu/event/kor-kepek-21/
CATEGORIES:Kor-Képek
END:VEVENT
BEGIN:VEVENT
DTSTART;TZID=UTC:20240306T173000
DTEND;TZID=UTC:20240306T193000
DTSTAMP:20260422T182513
CREATED:20240226T120951Z
LAST-MODIFIED:20240226T120951Z
UID:10000711-1709746200-1709753400@jasze.hu
SUMMARY:MAHLER
DESCRIPTION:Egy vándorlegény dalai\, I. szimfónia \nElőadó: Kocsis Gábor zenetörténész
URL:https://jasze.hu/event/mahler/
CATEGORIES:Mahler
END:VEVENT
BEGIN:VEVENT
DTSTART;TZID=UTC:20240307T170000
DTEND;TZID=UTC:20240307T183000
DTSTAMP:20260422T182513
CREATED:20240226T114011Z
LAST-MODIFIED:20240226T114011Z
UID:10000903-1709830800-1709836200@jasze.hu
SUMMARY:GENIUS LOCI
DESCRIPTION:A pénz centrumai: a tőzsde\, bankok\nés a biztosítók épületei  \nElőadó: Ludmann Mihály művészettörténész
URL:https://jasze.hu/event/genius-loci-22/
CATEGORIES:Genius Loci
END:VEVENT
BEGIN:VEVENT
DTSTART;TZID=UTC:20240311T173000
DTEND;TZID=UTC:20240311T190000
DTSTAMP:20260422T182513
CREATED:20240226T113249Z
LAST-MODIFIED:20240226T113249Z
UID:10000898-1710178200-1710183600@jasze.hu
SUMMARY:EGYETEMES MŰVÉSZETTÖRTÉNET
DESCRIPTION:A spanyol aranykor művészete \nElőadó: Ludmann Mihály művészettörténész
URL:https://jasze.hu/event/egyetemes-muveszettortenet-20/
CATEGORIES:Egyetemes művészettörténet
END:VEVENT
BEGIN:VEVENT
DTSTART;TZID=UTC:20240312T173000
DTEND;TZID=UTC:20240312T190000
DTSTAMP:20260422T182513
CREATED:20240226T121300Z
LAST-MODIFIED:20240226T121300Z
UID:10000908-1710264600-1710270000@jasze.hu
SUMMARY:AZ EMBERI CIVILIZÁCIÓK AZONOSSÁG-\,  KÜLÖNBSÉG- ÉS MÁSSÁG KÉPE VII.
DESCRIPTION:A kínai világkép meghatározó elemei I.\nAz ősi hitvilág\, a taoizmus\, a konfucianizmus \nElőadó: Kopcsik István
URL:https://jasze.hu/event/az-emberi-civilizaciok-azonossag-kulonbseg-es-massag-kepe-vii/
CATEGORIES:Az emberi civilizációk azonosság-, különbség- és másságképe IV.
END:VEVENT
BEGIN:VEVENT
DTSTART;TZID=UTC:20240314T170000
DTEND;TZID=UTC:20240314T183000
DTSTAMP:20260422T182513
CREATED:20240226T113706Z
LAST-MODIFIED:20240226T113706Z
UID:10000901-1710435600-1710441000@jasze.hu
SUMMARY:STÍLUSTEREMTŐ GÉNIUSZOK
DESCRIPTION:Gustav Klimt \nElőadó: Ludmann Mihály művészettörténész
URL:https://jasze.hu/event/stilusteremto-geniuszok-24/
CATEGORIES:Stílusteremtő géniuszok
END:VEVENT
BEGIN:VEVENT
DTSTART;TZID=UTC:20240318T160000
DTEND;TZID=UTC:20240318T171500
DTSTAMP:20260422T182513
CREATED:20240226T115740Z
LAST-MODIFIED:20240226T115740Z
UID:10000705-1710777600-1710782100@jasze.hu
SUMMARY:MŰVÉSZETTÖRTÉNET NYUGDÍJASOKNAK
DESCRIPTION:Caravaggio és követői \nElőadó: Ludmann Mihály művészettörténész
URL:https://jasze.hu/event/muveszettortenet-nyugdijasoknak-18/
CATEGORIES:Művészettörténet nyugdíjasoknak
END:VEVENT
BEGIN:VEVENT
DTSTART;TZID=UTC:20240318T173000
DTEND;TZID=UTC:20240318T190000
DTSTAMP:20260422T182513
CREATED:20240226T113432Z
LAST-MODIFIED:20240226T113432Z
UID:10000899-1710783000-1710788400@jasze.hu
SUMMARY:EGYETEMES MŰVÉSZETTÖRTÉNET
DESCRIPTION:A francia építészet XIV. Lajos korában \nElőadó: Ludmann Mihály művészettörténész
URL:https://jasze.hu/event/egyetemes-muveszettortenet-21/
CATEGORIES:Egyetemes művészettörténet
END:VEVENT
BEGIN:VEVENT
DTSTART;TZID=UTC:20240319T173000
DTEND;TZID=UTC:20240319T190000
DTSTAMP:20260422T182513
CREATED:20240226T115016Z
LAST-MODIFIED:20240226T115016Z
UID:10000700-1710869400-1710874800@jasze.hu
SUMMARY:A 20. SZÁZAD TÖRTÉNELMI SZEMÉLYISÉGEI
DESCRIPTION:gróf Bethlen István  \nElőadó: Romsics Ignác történész \nSzerkesztő: Kálóczy Béla
URL:https://jasze.hu/event/a-20-szazad-tortenelmi-szemelyisegei-2/
CATEGORIES:A 20. SZÁZAD TÖRTÉNELMI SZEMÉLYISÉGEI
END:VEVENT
BEGIN:VEVENT
DTSTART;TZID=UTC:20240320T150000
DTEND;TZID=UTC:20240320T163000
DTSTAMP:20260422T182513
CREATED:20240226T120431Z
LAST-MODIFIED:20240226T120431Z
UID:10000708-1710946800-1710952200@jasze.hu
SUMMARY:ORSZÁGRÓL ORSZÁGRA A NAGYVILÁGBAN
DESCRIPTION:Ahol a brazilfán kívül semmi sincs (?).\nBrazília felfedezése  \n 
URL:https://jasze.hu/event/orszagrol-orszagra-a-nagyvilagban-3/
CATEGORIES:Országról országra
END:VEVENT
BEGIN:VEVENT
DTSTART;TZID=UTC:20240320T173000
DTEND;TZID=UTC:20240320T190000
DTSTAMP:20260422T182513
CREATED:20240226T114618Z
LAST-MODIFIED:20240226T114618Z
UID:10000906-1710955800-1710961200@jasze.hu
SUMMARY:KOR-KÉPEK
DESCRIPTION:Vallomás ecsettel  \nA „Halott Ophelia” és „Boldog Beáta”. Nők a pre­raffaelita mesterek művészetében – és életében \nElőadó: Réti Mária művészettörténész
URL:https://jasze.hu/event/kor-kepek-22/
CATEGORIES:Kor-Képek
END:VEVENT
BEGIN:VEVENT
DTSTART;TZID=UTC:20240320T173000
DTEND;TZID=UTC:20240320T193000
DTSTAMP:20260422T182513
CREATED:20240226T121125Z
LAST-MODIFIED:20240226T121125Z
UID:10000907-1710955800-1710963000@jasze.hu
SUMMARY:MAHLER
DESCRIPTION:II. szimfónia \nElőadó: Kocsis Gábor zenetörténész
URL:https://jasze.hu/event/mahler-2/
CATEGORIES:Mahler
END:VEVENT
BEGIN:VEVENT
DTSTART;TZID=UTC:20240321T170000
DTEND;TZID=UTC:20240321T183000
DTSTAMP:20260422T182513
CREATED:20240226T114127Z
LAST-MODIFIED:20240226T114127Z
UID:10000904-1711040400-1711045800@jasze.hu
SUMMARY:GENIUS LOCI
DESCRIPTION:A szakralitás terei: a templomok \nElőadó: Ludmann Mihály művészettörténész
URL:https://jasze.hu/event/genius-loci-23/
CATEGORIES:Genius Loci
END:VEVENT
BEGIN:VEVENT
DTSTART;TZID=UTC:20240322T143000
DTEND;TZID=UTC:20240322T160000
DTSTAMP:20260422T182513
CREATED:20240226T120715Z
LAST-MODIFIED:20240226T120715Z
UID:10000710-1711117800-1711123200@jasze.hu
SUMMARY:HALLGASSUK ÉS NÉZZÜK EGYÜTT!
DESCRIPTION:Camille Saint-Saëns híres művei \nElőadó: Zelinka Tamás zenetanár\, szerkesztő
URL:https://jasze.hu/event/hallgassuk-es-nezzuk-egyutt-20/
CATEGORIES:Hallgassuk és nézzük együtt!
END:VEVENT
BEGIN:VEVENT
DTSTART;TZID=UTC:20240325T173000
DTEND;TZID=UTC:20240325T190000
DTSTAMP:20260422T182513
CREATED:20240226T113551Z
LAST-MODIFIED:20240226T113551Z
UID:10000900-1711387800-1711393200@jasze.hu
SUMMARY:EGYETEMES MŰVÉSZETTÖRTÉNET
DESCRIPTION:A Napkirály korának képzőművészete \nElőadó: Ludmann Mihály művészettörténész
URL:https://jasze.hu/event/egyetemes-muveszettortenet-22/
CATEGORIES:Egyetemes művészettörténet
END:VEVENT
BEGIN:VEVENT
DTSTART;TZID=UTC:20240326T173000
DTEND;TZID=UTC:20240326T190000
DTSTAMP:20260422T182513
CREATED:20240226T121426Z
LAST-MODIFIED:20240226T121426Z
UID:10000909-1711474200-1711479600@jasze.hu
SUMMARY:AZ EMBERI CIVILIZÁCIÓK AZONOSSÁG-\,  KÜLÖNBSÉG- ÉS MÁSSÁG KÉPE VII.
DESCRIPTION:A kínai világkép meghatározó elemei II.\nA buddhizmus\, a császárkultusz és a maoizmus \nElőadó: Kopcsik István
URL:https://jasze.hu/event/az-emberi-civilizaciok-azonossag-kulonbseg-es-massag-kepe-vii-2/
CATEGORIES:Az emberi civilizációk azonosság-, különbség- és másságképe IV.
END:VEVENT
BEGIN:VEVENT
DTSTART;TZID=UTC:20240327T173000
DTEND;TZID=UTC:20240327T193000
DTSTAMP:20260422T182513
CREATED:20240226T115403Z
LAST-MODIFIED:20240226T115403Z
UID:10000701-1711560600-1711567800@jasze.hu
SUMMARY:IRODALMI ALKOTÁSOK PÁRBESZÉDE Idő és irodalom
DESCRIPTION:Szent idő: húsvét\, pünkösd \nElőadó: Tamás Ferenc irodalomtörténész\, költő\, magyartanár
URL:https://jasze.hu/event/irodalmi-alkotasok-parbeszede-ido-es-irodalom-10/
CATEGORIES:Irodalmi alkotások párbeszéde
END:VEVENT
BEGIN:VEVENT
DTSTART;TZID=UTC:20240328T170000
DTEND;TZID=UTC:20240328T183000
DTSTAMP:20260422T182513
CREATED:20240226T113859Z
LAST-MODIFIED:20240226T113859Z
UID:10000902-1711645200-1711650600@jasze.hu
SUMMARY:STÍLUSTEREMTŐ GÉNIUSZOK
DESCRIPTION:Kismarty-Lechner Jenő         \nElőadó: Ludmann Mihály művészettörténész
URL:https://jasze.hu/event/stilusteremto-geniuszok-25/
CATEGORIES:Stílusteremtő géniuszok
END:VEVENT
BEGIN:VEVENT
DTSTART;TZID=UTC:20240402T173000
DTEND;TZID=UTC:20240402T190000
DTSTAMP:20260422T182513
CREATED:20240331T190401Z
LAST-MODIFIED:20240331T190401Z
UID:10000911-1712079000-1712084400@jasze.hu
SUMMARY:A 20. SZÁZAD TÖRTÉNELMI SZEMÉLYISÉGEI
DESCRIPTION:Rákosi Mátyás \nElőadó: Romsics Ignác történész \nSzerkesztő: Kálóczy Béla
URL:https://jasze.hu/event/a-20-szazad-tortenelmi-szemelyisegei-3/
CATEGORIES:A 20. SZÁZAD TÖRTÉNELMI SZEMÉLYISÉGEI
END:VEVENT
BEGIN:VEVENT
DTSTART;TZID=UTC:20240403T150000
DTEND;TZID=UTC:20240403T163000
DTSTAMP:20260422T182513
CREATED:20240331T190708Z
LAST-MODIFIED:20240331T190708Z
UID:10000912-1712156400-1712161800@jasze.hu
SUMMARY:ORSZÁGRÓL ORSZÁGRA A NAGYVILÁGBAN
DESCRIPTION:A 18 ezer sziget országa: Indonézia \nElőadó: Kapitánffy Krisztina
URL:https://jasze.hu/event/orszagrol-orszagra-a-nagyvilagban-4/
CATEGORIES:Országról országra
END:VEVENT
BEGIN:VEVENT
DTSTART;TZID=UTC:20240403T173000
DTEND;TZID=UTC:20240403T190000
DTSTAMP:20260422T182513
CREATED:20240331T190958Z
LAST-MODIFIED:20240331T190958Z
UID:10000913-1712165400-1712170800@jasze.hu
SUMMARY:KOR-KÉPEK
DESCRIPTION:„Asszonyok a kereszt alatt” \nElőadó: Réti Mária művészettörténész
URL:https://jasze.hu/event/kor-kepek-23/
CATEGORIES:Kor-Képek
END:VEVENT
BEGIN:VEVENT
DTSTART;TZID=UTC:20240403T173000
DTEND;TZID=UTC:20240403T190000
DTSTAMP:20260422T182513
CREATED:20240331T191155Z
LAST-MODIFIED:20240331T191155Z
UID:10000914-1712165400-1712170800@jasze.hu
SUMMARY:MAHLER
DESCRIPTION:III. szimfónia \nElőadó: Kocsis Gábor zenetörténész
URL:https://jasze.hu/event/mahler-3/
CATEGORIES:Mahler
END:VEVENT
BEGIN:VEVENT
DTSTART;TZID=UTC:20240404T170000
DTEND;TZID=UTC:20240404T183000
DTSTAMP:20260422T182513
CREATED:20240331T191433Z
LAST-MODIFIED:20240331T191433Z
UID:10000915-1712250000-1712255400@jasze.hu
SUMMARY:GENIUS LOCI
DESCRIPTION:A Szabadság tér és emlékműveinek története \nElőadó: Ludmann Mihály\, művészettörténész
URL:https://jasze.hu/event/genius-loci-24/
CATEGORIES:Genius Loci
END:VEVENT
BEGIN:VEVENT
DTSTART;TZID=UTC:20240405T143000
DTEND;TZID=UTC:20240405T160000
DTSTAMP:20260422T182513
CREATED:20240331T191709Z
LAST-MODIFIED:20240331T191709Z
UID:10000916-1712327400-1712332800@jasze.hu
SUMMARY:HALLGASSUK ÉS NÉZZÜK EGYÜTT!
DESCRIPTION:Gaetano Donizetti és Gioachino Rossini\nvígoperáiból \nElőadó: Zelinka Tamás zenetanár\, szerkesztő
URL:https://jasze.hu/event/hallgassuk-es-nezzuk-egyutt-21/
CATEGORIES:Hallgassuk és nézzük együtt!
END:VEVENT
END:VCALENDAR