BEGIN:VCALENDAR
VERSION:2.0
PRODID:-//TIT József Attila Szabadegyetem - ECPv6.15.20//NONSGML v1.0//EN
CALSCALE:GREGORIAN
METHOD:PUBLISH
X-ORIGINAL-URL:https://jasze.hu
X-WR-CALDESC:Események TIT József Attila Szabadegyetem
REFRESH-INTERVAL;VALUE=DURATION:PT1H
X-Robots-Tag:noindex
X-PUBLISHED-TTL:PT1H
BEGIN:VTIMEZONE
TZID:UTC
BEGIN:STANDARD
TZOFFSETFROM:+0000
TZOFFSETTO:+0000
TZNAME:UTC
DTSTART:20230101T000000
END:STANDARD
END:VTIMEZONE
BEGIN:VEVENT
DTSTART;TZID=UTC:20240502T170000
DTEND;TZID=UTC:20240502T183000
DTSTAMP:20260422T214924
CREATED:20240428T125801Z
LAST-MODIFIED:20240428T125801Z
UID:10000734-1714669200-1714674600@jasze.hu
SUMMARY:GENIUS LOCI
DESCRIPTION:A köztéri emlékművek \nElőadó: Ludmann Mihály\, művészettörténész
URL:https://jasze.hu/event/genius-loci-26/
CATEGORIES:Genius Loci
END:VEVENT
BEGIN:VEVENT
DTSTART;TZID=UTC:20240503T143000
DTEND;TZID=UTC:20240503T160000
DTSTAMP:20260422T214924
CREATED:20240428T130041Z
LAST-MODIFIED:20240428T130041Z
UID:10000926-1714746600-1714752000@jasze.hu
SUMMARY:HALLGASSUK ÉS NÉZZÜK EGYÜTT!
DESCRIPTION:Bormámor \nElőadó: Zelinka Tamás zenetanár\, szerkesztő
URL:https://jasze.hu/event/hallgassuk-es-nezzuk-egyutt-23/
CATEGORIES:Hallgassuk és nézzük együtt!
END:VEVENT
BEGIN:VEVENT
DTSTART;TZID=UTC:20240506T173000
DTEND;TZID=UTC:20240506T190000
DTSTAMP:20260422T214924
CREATED:20240502T124556Z
LAST-MODIFIED:20240502T124556Z
UID:10000927-1715016600-1715022000@jasze.hu
SUMMARY:EGYETEMES MŰVÉSZETTÖRTÉNET
DESCRIPTION:Vermeer világa \n\n\n\n\nElőadó: Ludmann Mihály\, művészettörténész
URL:https://jasze.hu/event/egyetemes-muveszettortenet-27/
CATEGORIES:Egyetemes művészettörténet
END:VEVENT
BEGIN:VEVENT
DTSTART;TZID=UTC:20240507T173000
DTEND;TZID=UTC:20240507T190000
DTSTAMP:20260422T214924
CREATED:20240502T124756Z
LAST-MODIFIED:20240502T124756Z
UID:10000928-1715103000-1715108400@jasze.hu
SUMMARY:AZ EMBERI CIVILIZÁCIÓK AZONOSSÁG-\, KÜLÖNBSÉG- ÉS MÁSSÁG KÉPE VII.
DESCRIPTION:Kína gazdasági és társadalmi jellegzetességei a középkorban és az újkor kezdetén \n\n\n\n\nElőadó: Kopcsik István
URL:https://jasze.hu/event/az-emberi-civilizaciok-azonossag-kulonbseg-es-massag-kepe-vii-5/
CATEGORIES:Az emberi civilizációk azonosság-, különbség- és másságképe IV.
END:VEVENT
BEGIN:VEVENT
DTSTART;TZID=UTC:20240508T150000
DTEND;TZID=UTC:20240508T163000
DTSTAMP:20260422T214924
CREATED:20240502T125242Z
LAST-MODIFIED:20240502T125242Z
UID:10000929-1715180400-1715185800@jasze.hu
SUMMARY:ORSZÁGRÓL ORSZÁGRA A NAGYVILÁGBAN
DESCRIPTION:Változatos látnivalók\, sokféle bőrszín: Dél-Afrika\, a szivárványország \n\n\n\n\nElőadó: Kapitánffy Krisztina
URL:https://jasze.hu/event/orszagrol-orszagra-a-nagyvilagban-6/
CATEGORIES:Országról országra
END:VEVENT
BEGIN:VEVENT
DTSTART;TZID=UTC:20240509T170000
DTEND;TZID=UTC:20240509T183000
DTSTAMP:20260422T214924
CREATED:20240502T125958Z
LAST-MODIFIED:20240502T125958Z
UID:10000930-1715274000-1715279400@jasze.hu
SUMMARY:STÍLUSTEREMTŐ GÉNIUSZOK
DESCRIPTION:Alekszej Georgijevics Javlenszkij  \n\n\n\n\nElőadó: Ludmann Mihály\, művészettörténész
URL:https://jasze.hu/event/stilusteremto-geniuszok-28/
CATEGORIES:Stílusteremtő géniuszok
END:VEVENT
BEGIN:VEVENT
DTSTART;TZID=UTC:20240510T143000
DTEND;TZID=UTC:20240510T160000
DTSTAMP:20260422T214924
CREATED:20240502T130226Z
LAST-MODIFIED:20240502T130310Z
UID:10000931-1715351400-1715356800@jasze.hu
SUMMARY:HALLGASSUK ÉS NÉZZÜK EGYÜTT!
DESCRIPTION:Zeneművek festői környezetben (Ajándék!) \nElőadó: Zelinka Tamás  zenetanár\, szerkesztő
URL:https://jasze.hu/event/hallgassuk-es-nezzuk-egyutt-24/
CATEGORIES:Hallgassuk és nézzük együtt!
END:VEVENT
BEGIN:VEVENT
DTSTART;TZID=UTC:20240513T160000
DTEND;TZID=UTC:20240513T171500
DTSTAMP:20260422T214924
CREATED:20240512T092729Z
LAST-MODIFIED:20240512T092729Z
UID:10000932-1715616000-1715620500@jasze.hu
SUMMARY:MŰVÉSZETTÖRTÉNET NYUGDÍJASOKNAK
DESCRIPTION:Rembrandt és kora \nElőadó: Ludmann Mihály\,\nművészettörténész
URL:https://jasze.hu/event/muveszettortenet-nyugdijasoknak-20/
CATEGORIES:Művészettörténet nyugdíjasoknak
END:VEVENT
BEGIN:VEVENT
DTSTART;TZID=UTC:20240513T173000
DTEND;TZID=UTC:20240513T190000
DTSTAMP:20260422T214924
CREATED:20240512T092937Z
LAST-MODIFIED:20240512T092937Z
UID:10000933-1715621400-1715626800@jasze.hu
SUMMARY:EGYETEMES MŰVÉSZETTÖRTÉNET
DESCRIPTION:Az osztrák barokk építészet \nElőadó: Ludmann Mihály\, művészettörténész
URL:https://jasze.hu/event/egyetemes-muveszettortenet-28/
CATEGORIES:Egyetemes művészettörténet
END:VEVENT
BEGIN:VEVENT
DTSTART;TZID=UTC:20240515T173000
DTEND;TZID=UTC:20240515T190000
DTSTAMP:20260422T214924
CREATED:20240512T093315Z
LAST-MODIFIED:20240512T093315Z
UID:10000934-1715794200-1715799600@jasze.hu
SUMMARY:KOR-KÉPEK
DESCRIPTION:Csodálatos utazás Szegedre \nA szegedi Reök-palota a magyar szecesszió egyik legszebb hajtása \nElőadó: Réti Mária művészettörténész
URL:https://jasze.hu/event/kor-kepek-25/
CATEGORIES:Kor-Képek
END:VEVENT
BEGIN:VEVENT
DTSTART;TZID=UTC:20240515T173000
DTEND;TZID=UTC:20240515T190000
DTSTAMP:20260422T214924
CREATED:20240512T093454Z
LAST-MODIFIED:20240512T093454Z
UID:10000935-1715794200-1715799600@jasze.hu
SUMMARY:MAHLER
DESCRIPTION:V. szimfónia\, A panaszos dal \nElőadó: Kocsis Gábor zenetörténész
URL:https://jasze.hu/event/mahler-5/
CATEGORIES:Francia zenetörténet
END:VEVENT
BEGIN:VEVENT
DTSTART;TZID=UTC:20240516T170000
DTEND;TZID=UTC:20240516T183000
DTSTAMP:20260422T214924
CREATED:20240512T093659Z
LAST-MODIFIED:20240512T093659Z
UID:10000936-1715878800-1715884200@jasze.hu
SUMMARY:GENIUS LOCI
DESCRIPTION:A millenniumi kiállítás \nElőadó: Ludmann Mihály\, művészettörténész
URL:https://jasze.hu/event/genius-loci-27/
CATEGORIES:Genius Loci
END:VEVENT
BEGIN:VEVENT
DTSTART;TZID=UTC:20240521T173000
DTEND;TZID=UTC:20240521T190000
DTSTAMP:20260422T214924
CREATED:20240519T164513Z
LAST-MODIFIED:20240519T164513Z
UID:10000937-1716312600-1716318000@jasze.hu
SUMMARY:AZ EMBERI CIVILIZÁCIÓK AZONOSSÁG-\, KÜLÖNBSÉG- ÉS MÁSSÁG KÉPE VII
DESCRIPTION:Gyarmatosítási törekvések a 18. századtól\na 20. század elejéig \nElőadó: Kopcsik István
URL:https://jasze.hu/event/az-emberi-civilizaciok-azonossag-kulonbseg-es-massag-kepe-vii-7/
CATEGORIES:Az emberi civilizációk azonosság-, különbség- és másságképe IV.
END:VEVENT
BEGIN:VEVENT
DTSTART;TZID=UTC:20240522T173000
DTEND;TZID=UTC:20240522T193000
DTSTAMP:20260422T214924
CREATED:20240519T164727Z
LAST-MODIFIED:20240519T164727Z
UID:10000938-1716399000-1716406200@jasze.hu
SUMMARY:IRODALMI ALKOTÁSOK PÁRBESZÉDE Idő és irodalom
DESCRIPTION:Évszakok: nyár \nElőadó: Tamás Ferenc irodalomtörténész\, költő\, magyartanár
URL:https://jasze.hu/event/irodalmi-alkotasok-parbeszede-ido-es-irodalom-14/
CATEGORIES:Irodalmi alkotások párbeszéde
END:VEVENT
BEGIN:VEVENT
DTSTART;TZID=UTC:20240523T170000
DTEND;TZID=UTC:20240523T183000
DTSTAMP:20260422T214924
CREATED:20240519T164939Z
LAST-MODIFIED:20240519T164939Z
UID:10000939-1716483600-1716489000@jasze.hu
SUMMARY:STÍLUSTEREMTŐ GÉNIUSZOK
DESCRIPTION:Aba-Novák Vilmos \nElőadó: Ludmann Mihály\, művészettörténész
URL:https://jasze.hu/event/stilusteremto-geniuszok-29/
CATEGORIES:Stílusteremtő géniuszok
END:VEVENT
BEGIN:VEVENT
DTSTART;TZID=UTC:20240527T160000
DTEND;TZID=UTC:20240527T171500
DTSTAMP:20260422T214924
CREATED:20240525T094703Z
LAST-MODIFIED:20240525T094703Z
UID:10000940-1716825600-1716830100@jasze.hu
SUMMARY:MŰVÉSZETTÖRTÉNET NYUGDÍJASOKNAK
DESCRIPTION:A spanyol aranykor művészete \nElőadó: Ludmann Mihály\, művészettörténész
URL:https://jasze.hu/event/muveszettortenet-nyugdijasoknak-21/
CATEGORIES:Művészettörténet nyugdíjasoknak
END:VEVENT
BEGIN:VEVENT
DTSTART;TZID=UTC:20240527T173000
DTEND;TZID=UTC:20240527T190000
DTSTAMP:20260422T214924
CREATED:20240525T094921Z
LAST-MODIFIED:20240525T094921Z
UID:10000941-1716831000-1716836400@jasze.hu
SUMMARY:EGYETEMES MŰVÉSZETTÖRTÉNET
DESCRIPTION:A barokk és késő barokk építészet Magyarországon \nElőadó: Ludmann Mihály\, művészettörténész
URL:https://jasze.hu/event/egyetemes-muveszettortenet-29/
CATEGORIES:Egyetemes művészettörténet
END:VEVENT
BEGIN:VEVENT
DTSTART;TZID=UTC:20240528T173000
DTEND;TZID=UTC:20240528T190000
DTSTAMP:20260422T214924
CREATED:20240525T095127Z
LAST-MODIFIED:20240525T095127Z
UID:10000942-1716917400-1716922800@jasze.hu
SUMMARY:HALHATATLAN KULTÚRA
DESCRIPTION:Varsótól a Mazuri-tóhátságig – Lengyelország arcai \nElőadó: Bodó Péter idegenvezető
URL:https://jasze.hu/event/halhatatlan-kultura-4/
CATEGORIES:Hallhatatlan kultúra
END:VEVENT
BEGIN:VEVENT
DTSTART;TZID=UTC:20240529T173000
DTEND;TZID=UTC:20240529T190000
DTSTAMP:20260422T214924
CREATED:20240525T095407Z
LAST-MODIFIED:20240525T095407Z
UID:10000943-1717003800-1717009200@jasze.hu
SUMMARY:KOR-KÉPEK
DESCRIPTION:Az üveg művészete \n…és Róth Miksa üvegművészete \nElőadó: Réti Mária művészettörténész
URL:https://jasze.hu/event/kor-kepek-26/
CATEGORIES:Kor-Képek
END:VEVENT
BEGIN:VEVENT
DTSTART;TZID=UTC:20240529T173000
DTEND;TZID=UTC:20240529T193000
DTSTAMP:20260422T214924
CREATED:20240525T095556Z
LAST-MODIFIED:20240525T095556Z
UID:10000944-1717003800-1717011000@jasze.hu
SUMMARY:MAHLER
DESCRIPTION:VIII. szimfónia \nElőadó: Kocsis Gábor zenetörténész
URL:https://jasze.hu/event/mahler-6/
CATEGORIES:Francia zenetörténet
END:VEVENT
BEGIN:VEVENT
DTSTART;TZID=UTC:20240530T170000
DTEND;TZID=UTC:20240530T183000
DTSTAMP:20260422T214924
CREATED:20240525T095840Z
LAST-MODIFIED:20240525T095840Z
UID:10000945-1717088400-1717093800@jasze.hu
SUMMARY:GENIUS LOCI
DESCRIPTION:A budai vár építészeti rekonstrukciója a XIX. század végén \nElőadó: Ludmann Mihály\, művészettörténész
URL:https://jasze.hu/event/genius-loci-28/
CATEGORIES:Genius Loci
END:VEVENT
BEGIN:VEVENT
DTSTART;TZID=UTC:20240603T173000
DTEND;TZID=UTC:20240603T190000
DTSTAMP:20260422T214924
CREATED:20240525T100123Z
LAST-MODIFIED:20240525T100123Z
UID:10000736-1717435800-1717441200@jasze.hu
SUMMARY:EGYETEMES MŰVÉSZETTÖRTÉNET
DESCRIPTION:Az osztrák és a magyar képzőművészet jelentős alkotásai és mesterei \nElőadó: Ludmann Mihály\, művészettörténész
URL:https://jasze.hu/event/egyetemes-muveszettortenet-30/
CATEGORIES:Egyetemes művészettörténet
END:VEVENT
BEGIN:VEVENT
DTSTART;TZID=UTC:20240604T173000
DTEND;TZID=UTC:20240604T190000
DTSTAMP:20260422T214924
CREATED:20240525T100426Z
LAST-MODIFIED:20240525T100426Z
UID:10000737-1717522200-1717527600@jasze.hu
SUMMARY:HALHATATLAN KULTÚRA
DESCRIPTION:Születés és halál – indiánok és tradíció a sokszínű Mexikóban \nElőadó: Mihályfi Márta kulturális antropológus\, dúla
URL:https://jasze.hu/event/halhatatlan-kultura-5/
CATEGORIES:Hallhatatlan kultúra
END:VEVENT
BEGIN:VEVENT
DTSTART;TZID=UTC:20240604T173000
DTEND;TZID=UTC:20240604T190000
DTSTAMP:20260422T214924
CREATED:20240525T100622Z
LAST-MODIFIED:20240525T100622Z
UID:10000739-1717522200-1717527600@jasze.hu
SUMMARY:AZ EMBERI CIVILIZÁCIÓK AZONOSSÁG-\, KÜLÖNBSÉG- ÉS MÁSSÁG KÉPE VII.
DESCRIPTION:A modern Kína kialakulása és jellegzetességei \nElőadó: Kopcsik István
URL:https://jasze.hu/event/az-emberi-civilizaciok-azonossag-kulonbseg-es-massag-kepe-vii-8/
CATEGORIES:Az emberi civilizációk azonosság-, különbség- és másságképe IV.
END:VEVENT
BEGIN:VEVENT
DTSTART;TZID=UTC:20240605T173000
DTEND;TZID=UTC:20240605T200000
DTSTAMP:20260422T214924
CREATED:20240525T100848Z
LAST-MODIFIED:20240525T100848Z
UID:10000740-1717608600-1717617600@jasze.hu
SUMMARY:IRODALMI ALKOTÁSOK PÁRBESZÉDE Idő és irodalom
DESCRIPTION:Regény és idő – Thomas Mann\, Proust (Pótlás!) \nElőadó: Tamás Ferenc irodalomtörténész\, költő\, magyartanár
URL:https://jasze.hu/event/irodalmi-alkotasok-parbeszede-ido-es-irodalom-15/
CATEGORIES:Irodalmi alkotások párbeszéde
END:VEVENT
BEGIN:VEVENT
DTSTART;TZID=UTC:20240606T170000
DTEND;TZID=UTC:20240606T183000
DTSTAMP:20260422T214924
CREATED:20240525T101056Z
LAST-MODIFIED:20240525T101056Z
UID:10000742-1717693200-1717698600@jasze.hu
SUMMARY:STÍLUSTEREMTŐ GÉNIUSZOK
DESCRIPTION: Kondor Béla \nElőadó: Ludmann Mihály\, művészettörténész
URL:https://jasze.hu/event/stilusteremto-geniuszok-30/
CATEGORIES:Stílusteremtő géniuszok
END:VEVENT
BEGIN:VEVENT
DTSTART;TZID=UTC:20241009T170000
DTEND;TZID=UTC:20241009T190000
DTSTAMP:20260422T214924
CREATED:20241007T130205Z
LAST-MODIFIED:20241007T130205Z
UID:10000949-1728493200-1728500400@jasze.hu
SUMMARY:IRODALMI ALKOTÁSOK PÁRBESZÉDE
DESCRIPTION:Regény és idő 1. (Pótlás)\nProust: Az eltűnt idő nyomában\nThomas Mann: A varázshegy \nElőadó: Tamás Ferenc irodalomtörténész\, költő\, magyartanár
URL:https://jasze.hu/event/irodalmi-alkotasok-parbeszede-2/
CATEGORIES:Irodalmi alkotások párbeszéde
END:VEVENT
BEGIN:VEVENT
DTSTART;TZID=UTC:20241009T173000
DTEND;TZID=UTC:20241009T185000
DTSTAMP:20260422T214924
CREATED:20241007T133708Z
LAST-MODIFIED:20241007T133708Z
UID:10000961-1728495000-1728499800@jasze.hu
SUMMARY:HALHATATLAN KULTÚRA
DESCRIPTION:A keresztény Egyiptom – Kopt emlékek Kairótól Alexandriáig \nElőadó: Dr. Szabó Zsolt\, a Károli Gáspár Református Egyetem habil. egyetemi docense
URL:https://jasze.hu/event/halhatatlan-kultura-6/
CATEGORIES:Hallhatatlan kultúra
END:VEVENT
BEGIN:VEVENT
DTSTART;TZID=UTC:20241010T170000
DTEND;TZID=UTC:20241010T183000
DTSTAMP:20260422T214924
CREATED:20241007T123235Z
LAST-MODIFIED:20241007T123235Z
UID:10000747-1728579600-1728585000@jasze.hu
SUMMARY:STÍLUSTEREMTŐ GÉNIUSZOK
DESCRIPTION:Dürer \nElőadó: Ludmann Mihály művészettörténész
URL:https://jasze.hu/event/stilusteremto-geniuszok-31/
CATEGORIES:Stílusteremtő géniuszok
END:VEVENT
BEGIN:VEVENT
DTSTART;TZID=UTC:20241014T160000
DTEND;TZID=UTC:20241014T171500
DTSTAMP:20260422T214924
CREATED:20241007T131537Z
LAST-MODIFIED:20241007T131537Z
UID:10000954-1728921600-1728926100@jasze.hu
SUMMARY:MŰVÉSZETTÖRTÉNET NYUGDÍJASOKNAK
DESCRIPTION:A rokokó művészete \nElőadó: Ludmann Mihály művészettörténész
URL:https://jasze.hu/event/muveszettortenet-nyugdijasoknak-22/
CATEGORIES:Művészettörténet nyugdíjasoknak
END:VEVENT
END:VCALENDAR